FILENAME: O4711104.NWS.1078144.tif
QUADRANGLE_NAME: DUTTON NE
QUADRANT: NW
WEST_LONGITUDE: -111 37 30.00000
EAST_LONGITUDE: -111 33 45.00000
NORTH_LATITUDE: 48 0 0.00000
SOUTH_LATITUDE: 47 56 15.00000
PRODUCTION_DATE: 2000 5 3
RASTER_ORDER: LEFT_RIGHT/TOP_BOTTOM
BAND_ORGANIZATION: SINGLE FILE
BAND_CONTENT: BLACK&WHITE
BAND_CONTENT: UNDEFINED
BAND_CONTENT: UNDEFINED
BITS_PER_PIXEL: 8
SAMPLES_AND_LINES: 5383 7589
HORIZONTAL_DATUM: NAD83
HORIZONTAL_COORDINATE_SYSTEM: UTM
COORDINATE_ZONE: 12
HORIZONTAL_UNITS: METERS
HORIZONTAL_RESOLUTION: 1.00000
SECONDARY_HORIZONTAL_DATUM: NAD27
XY_ORIGIN: 452959.00000 5316790.00000
SECONDARY_XY_ORIGIN: 453019.29600 5316574.69900
NATION: US
NATION: "SCIENCE
STATE: MT
NW_QUAD_CORNER_XY: 453377.90600 5316489.19700
NE_QUAD_CORNER_XY: 458040.09900 5316453.29200
SE_QUAD_CORNERY_XY: 457989.44200 5309506.74900
SW_QUAD_CORNER_XY: 453321.61900 5309542.66200
SECONDARY_NW_QUAD_XY: 453376.43900 5316270.32300
SECONDARY_NE_QUAD_XY: 458038.77800 5316234.41600
SECONDARY_SE_QUAD_XY: 457988.12100 5309287.88800
SECONDARY_SW_QUAD_XY: 453320.15200 5309323.80300
RMSE_XY: 1.00000
IMAGE_SOURCE: BLACK AND WHITE FILM
SOURCE_IMAGE_ID: NAPP 8373 069
SOURCE_IMAGE_DATE: 1995 08 09
SOURCE_DEM_DATE: 1987 00 00
AGENCY: WESTERN MAPPING CENTER (WMC)
PRODUCER: UNDEFINED
PRODUCTION_SYSTEM: GIS/MAGIC
COMPRESSION: UNDEFINED
STANDARD_VERSION: 1996 12
METADATA_DATE: 2000 06 02
DATA_FILE_SIZE: 40856970
BYTE_COUNT: 5383
