FILENAME: O4711105.NES.1078147.tif
QUADRANGLE_NAME: TIMBER COULEE NORTH
QUADRANT: NE
WEST_LONGITUDE: -111 26 15.00000
EAST_LONGITUDE: -111 22 30.00000
NORTH_LATITUDE: 48 0 0.00000
SOUTH_LATITUDE: 47 56 15.00000
PRODUCTION_DATE: 2000 5 4
RASTER_ORDER: LEFT_RIGHT/TOP_BOTTOM
BAND_ORGANIZATION: SINGLE FILE
BAND_CONTENT: BLACK&WHITE
BAND_CONTENT: UNDEFINED
BAND_CONTENT: UNDEFINED
BITS_PER_PIXEL: 8
SAMPLES_AND_LINES: 5365 7577
HORIZONTAL_DATUM: NAD83
HORIZONTAL_COORDINATE_SYSTEM: UTM
COORDINATE_ZONE: 12
HORIZONTAL_UNITS: METERS
HORIZONTAL_RESOLUTION: 1.00000
SECONDARY_HORIZONTAL_DATUM: NAD27
XY_ORIGIN: 466963.00000 5316693.00000
SECONDARY_XY_ORIGIN: 467022.91900 5316477.64000
NATION: US
NATION: "SCIENCE
STATE: MT
NW_QUAD_CORNER_XY: 467364.50000 5316392.82000
NE_QUAD_CORNER_XY: 472026.70700 5316368.25400
SE_QUAD_CORNERY_XY: 471992.93600 5309421.69100
SW_QUAD_CORNER_XY: 467325.10000 5309446.26300
SECONDARY_NW_QUAD_XY: 467363.47300 5316173.94200
SECONDARY_NE_QUAD_XY: 472025.82700 5316149.37500
SECONDARY_SE_QUAD_XY: 471992.05600 5309202.82800
SECONDARY_SW_QUAD_XY: 467324.07300 5309227.40100
RMSE_XY: 1.30000
IMAGE_SOURCE: BLACK AND WHITE FILM
SOURCE_IMAGE_ID: NAPP 8372 180
SOURCE_IMAGE_DATE: 1995 07 08
SOURCE_IMAGE_ID: NAPP 8372 178
SOURCE_IMAGE_DATE: 1995 07 08
SOURCE_IMAGE_ID: NAPP 8372 133
SOURCE_IMAGE_DATE: 1995 07 08
SOURCE_DEM_DATE: 1987 00 00
AGENCY: WESTERN MAPPING CENTER (WMC)
PRODUCER: UNDEFINED
PRODUCTION_SYSTEM: GIS/MAGIC
COMPRESSION: UNDEFINED
STANDARD_VERSION: 1996 12
METADATA_DATE: 2000 06 02
DATA_FILE_SIZE: 40655970
BYTE_COUNT: 5365
