FILENAME: O4711110.SES.727394.tif
QUADRANGLE_NAME: COLLINS SE
QUADRANT: SE
WEST_LONGITUDE: -111 48 45.00000
EAST_LONGITUDE: -111 45 0.00000
NORTH_LATITUDE: 47 48 45.00000
SOUTH_LATITUDE: 47 45 0.00000
PRODUCTION_DATE: 1997 8 5
RASTER_ORDER: LEFT_RIGHT/TOP_BOTTOM
BAND_ORGANIZATION: SINGLE FILE
BAND_CONTENT: BLACK&WHITE
BAND_CONTENT: UNDEFINED
BAND_CONTENT: UNDEFINED
BITS_PER_PIXEL: 8
SAMPLES_AND_LINES: 5414 7598
HORIZONTAL_DATUM: NAD83
HORIZONTAL_COORDINATE_SYSTEM: UTM
COORDINATE_ZONE: 12
HORIZONTAL_UNITS: METERS
HORIZONTAL_RESOLUTION: 1.00000
SECONDARY_HORIZONTAL_DATUM: NAD27
XY_ORIGIN: 438737.62300 5296079.79900
SECONDARY_XY_ORIGIN: 438797.87300 5295865.07800
NATION: US
STATE: MT
NW_QUAD_CORNER_XY: 439172.06000 5295780.29900
NE_QUAD_CORNER_XY: 443851.10500 5295733.02300
SE_QUAD_CORNERY_XY: 443783.76200 5288786.73000
SW_QUAD_CORNER_XY: 439099.10400 5288834.01600
SECONDARY_NW_QUAD_XY: 439170.15300 5295561.47700
SECONDARY_NE_QUAD_XY: 443849.34500 5295514.19900
SECONDARY_SE_QUAD_XY: 443782.00200 5288567.92400
SECONDARY_SW_QUAD_XY: 439097.19800 5288615.21200
RMSE_XY: 1.30000
IMAGE_SOURCE: BLACK AND WHITE FILM
SOURCE_IMAGE_ID: NAPP 8373 209
SOURCE_IMAGE_DATE: 1995 8 9
SOURCE_DEM_DATE: 1997 8 5
AGENCY: WESTERN MAPPING CENTER (WMC)
PRODUCER: Nies Mapping Group
PRODUCTION_SYSTEM: INTERGRAPH- ISPM,ISIR
COMPRESSION: UNDEFINED
STANDARD_VERSION: 1996 12
METADATA_DATE: 1997 12 30
DATA_FILE_SIZE: 41140986
BYTE_COUNT: 5414
