FILENAME: O4711112.NES.727368.tif
QUADRANGLE_NAME: DUTTON SE
QUADRANT: NE
WEST_LONGITUDE: -111 33 45.00000
EAST_LONGITUDE: -111 30 0.00000
NORTH_LATITUDE: 47 52 30.00000
SOUTH_LATITUDE: 47 48 45.00000
PRODUCTION_DATE: 1997 8 2
RASTER_ORDER: LEFT_RIGHT/TOP_BOTTOM
BAND_ORGANIZATION: SINGLE FILE
BAND_CONTENT: BLACK&WHITE
BAND_CONTENT: UNDEFINED
BAND_CONTENT: UNDEFINED
BITS_PER_PIXEL: 8
SAMPLES_AND_LINES: 5385 7582
HORIZONTAL_DATUM: NAD83
HORIZONTAL_COORDINATE_SYSTEM: UTM
COORDINATE_ZONE: 12
HORIZONTAL_UNITS: METERS
HORIZONTAL_RESOLUTION: 1.00000
SECONDARY_HORIZONTAL_DATUM: NAD27
XY_ORIGIN: 457527.86000 5302859.78200
SECONDARY_XY_ORIGIN: 457587.65600 5302644.72600
NATION: US
STATE: MT
NW_QUAD_CORNER_XY: 457938.83500 5302560.28200
NE_QUAD_CORNER_XY: 462612.28500 5302528.14200
SE_QUAD_CORNERY_XY: 462567.34600 5295581.74200
SW_QUAD_CORNER_XY: 457888.27800 5295613.88900
SECONDARY_NW_QUAD_XY: 457937.51400 5302341.43700
SECONDARY_NE_QUAD_XY: 462611.11100 5302309.29600
SECONDARY_SE_QUAD_XY: 462566.17300 5295362.91400
SECONDARY_SW_QUAD_XY: 457886.95800 5295395.06200
RMSE_XY: 1.20000
IMAGE_SOURCE: BLACK AND WHITE FILM
SOURCE_IMAGE_ID: NAPP 8373 62
SOURCE_IMAGE_DATE: 1995 8 9
SOURCE_DEM_DATE: 1997 8 2
AGENCY: WESTERN MAPPING CENTER (WMC)
PRODUCER: Nies Mapping Group
PRODUCTION_SYSTEM: INTERGRAPH- ISPM,ISIR
COMPRESSION: UNDEFINED
STANDARD_VERSION: 1996 12
METADATA_DATE: 1997 12 28
DATA_FILE_SIZE: 40834455
BYTE_COUNT: 5385
