FILENAME: O4711113.SES.727353.tif
QUADRANGLE_NAME: TIMBER COULEE SOUTH
QUADRANT: SE
WEST_LONGITUDE: -111 26 15.00000
EAST_LONGITUDE: -111 22 30.00000
NORTH_LATITUDE: 47 48 45.00000
SOUTH_LATITUDE: 47 45 0.00000
PRODUCTION_DATE: 1997 8 2
RASTER_ORDER: LEFT_RIGHT/TOP_BOTTOM
BAND_ORGANIZATION: SINGLE FILE
BAND_CONTENT: BLACK&WHITE
BAND_CONTENT: UNDEFINED
BAND_CONTENT: UNDEFINED
BITS_PER_PIXEL: 8
SAMPLES_AND_LINES: 5379 7575
HORIZONTAL_DATUM: NAD83
HORIZONTAL_COORDINATE_SYSTEM: UTM
COORDINATE_ZONE: 12
HORIZONTAL_UNITS: METERS
HORIZONTAL_RESOLUTION: 1.00000
SECONDARY_HORIZONTAL_DATUM: NAD27
XY_ORIGIN: 466847.39200 5295852.87800
SECONDARY_XY_ORIGIN: 466906.79500 5295637.92500
NATION: US
STATE: MT
NW_QUAD_CORNER_XY: 467246.41800 5295553.37800
NE_QUAD_CORNER_XY: 471925.49400 5295528.79500
SE_QUAD_CORNERY_XY: 471891.82400 5288582.46000
SW_QUAD_CORNER_XY: 467207.13600 5288607.04700
SECONDARY_NW_QUAD_XY: 467245.39200 5295334.54800
SECONDARY_NE_QUAD_XY: 471924.61400 5295309.96500
SECONDARY_SE_QUAD_XY: 471890.94400 5288363.64700
SECONDARY_SW_QUAD_XY: 467206.11000 5288388.23600
RMSE_XY: 1.10000
IMAGE_SOURCE: BLACK AND WHITE FILM
SOURCE_IMAGE_ID: NAPP 8372 174
SOURCE_IMAGE_DATE: 1995 7 8
SOURCE_DEM_DATE: 1997 8 2
AGENCY: WESTERN MAPPING CENTER (WMC)
PRODUCER: Nies Mapping Group
PRODUCTION_SYSTEM: INTERGRAPH- ISPM,ISIR
COMPRESSION: UNDEFINED
STANDARD_VERSION: 1996 12
METADATA_DATE: 1997 12 28
DATA_FILE_SIZE: 40751304
BYTE_COUNT: 5379
