FILENAME: O4711117.NES.727424.tif
QUADRANGLE_NAME: CLEIV
QUADRANT: NE
WEST_LONGITUDE: -111 56 15.00000
EAST_LONGITUDE: -111 52 30.00000
NORTH_LATITUDE: 47 45 0.00000
SOUTH_LATITUDE: 47 41 15.00000
PRODUCTION_DATE: 1997 8 11
RASTER_ORDER: LEFT_RIGHT/TOP_BOTTOM
BAND_ORGANIZATION: SINGLE FILE
BAND_CONTENT: BLACK&WHITE
BAND_CONTENT: UNDEFINED
BAND_CONTENT: UNDEFINED
BITS_PER_PIXEL: 8
SAMPLES_AND_LINES: 5431 7605
HORIZONTAL_DATUM: NAD83
HORIZONTAL_COORDINATE_SYSTEM: UTM
COORDINATE_ZONE: 12
HORIZONTAL_UNITS: METERS
HORIZONTAL_RESOLUTION: 1.00000
SECONDARY_HORIZONTAL_DATUM: NAD27
XY_ORIGIN: 429283.58800 5289239.43800
SECONDARY_XY_ORIGIN: 429344.10400 5289024.99800
NATION: US
STATE: MT
NW_QUAD_CORNER_XY: 429729.81000 5288939.93800
NE_QUAD_CORNER_XY: 434414.45300 5288885.08600
SE_QUAD_CORNERY_XY: 434335.96400 5281938.88800
SW_QUAD_CORNER_XY: 429645.71300 5281993.75200
SECONDARY_NW_QUAD_XY: 429727.61000 5288721.13700
SECONDARY_NE_QUAD_XY: 434412.40000 5288666.28300
SECONDARY_SE_QUAD_XY: 434333.91100 5281720.10400
SECONDARY_SW_QUAD_XY: 429643.51300 5281774.96900
RMSE_XY: 0.70000
IMAGE_SOURCE: BLACK AND WHITE FILM
SOURCE_IMAGE_ID: NAPP 8373 227
SOURCE_IMAGE_DATE: 1995 8 9
SOURCE_DEM_DATE: 1997 8 11
AGENCY: WESTERN MAPPING CENTER (WMC)
PRODUCER: Nies Mapping Group
PRODUCTION_SYSTEM: INTERGRAPH- ISPM,ISIR
COMPRESSION: UNDEFINED
STANDARD_VERSION: 1996 12
METADATA_DATE: 1997 12 30
DATA_FILE_SIZE: 41308186
BYTE_COUNT: 5431
