FILENAME: O4711119.SES.727386.tif
QUADRANGLE_NAME: POWER
QUADRANT: SE
WEST_LONGITUDE: -111 41 15.00000
EAST_LONGITUDE: -111 37 30.00000
NORTH_LATITUDE: 47 41 15.00000
SOUTH_LATITUDE: 47 37 30.00000
PRODUCTION_DATE: 1997 8 5
RASTER_ORDER: LEFT_RIGHT/TOP_BOTTOM
BAND_ORGANIZATION: SINGLE FILE
BAND_CONTENT: BLACK&WHITE
BAND_CONTENT: UNDEFINED
BAND_CONTENT: UNDEFINED
BITS_PER_PIXEL: 8
SAMPLES_AND_LINES: 5413 7590
HORIZONTAL_DATUM: NAD83
HORIZONTAL_COORDINATE_SYSTEM: UTM
COORDINATE_ZONE: 12
HORIZONTAL_UNITS: METERS
HORIZONTAL_RESOLUTION: 1.00000
SECONDARY_HORIZONTAL_DATUM: NAD27
XY_ORIGIN: 447984.30400 5282096.50100
SECONDARY_XY_ORIGIN: 448044.03900 5281881.97200
NATION: US
STATE: MT
NW_QUAD_CORNER_XY: 448406.75800 5281797.00100
NE_QUAD_CORNER_XY: 453097.03500 5281757.27300
SE_QUAD_CORNERY_XY: 453041.02900 5274811.11300
SW_QUAD_CORNER_XY: 448345.15100 5274850.84900
SECONDARY_NW_QUAD_XY: 448405.14500 5281578.21200
SECONDARY_NE_QUAD_XY: 453095.56800 5281538.48300
SECONDARY_SE_QUAD_XY: 453039.56300 5274592.34300
SECONDARY_SW_QUAD_XY: 448343.53800 5274632.08000
RMSE_XY: 1.10000
IMAGE_SOURCE: BLACK AND WHITE FILM
SOURCE_IMAGE_ID: NAPP 8373 106
SOURCE_IMAGE_DATE: 1995 8 9
SOURCE_DEM_DATE: 1997 8 5
AGENCY: WESTERN MAPPING CENTER (WMC)
PRODUCER: Nies Mapping Group
PRODUCTION_SYSTEM: INTERGRAPH- ISPM,ISIR
COMPRESSION: UNDEFINED
STANDARD_VERSION: 1996 12
METADATA_DATE: 1997 12 30
DATA_FILE_SIZE: 41090083
BYTE_COUNT: 5413
