FILENAME: O4711119.NES.727384.tif
QUADRANGLE_NAME: POWER
QUADRANT: NE
WEST_LONGITUDE: -111 41 15.00000
EAST_LONGITUDE: -111 37 30.00000
NORTH_LATITUDE: 47 45 0.00000
SOUTH_LATITUDE: 47 41 15.00000
PRODUCTION_DATE: 1997 8 5
RASTER_ORDER: LEFT_RIGHT/TOP_BOTTOM
BAND_ORGANIZATION: SINGLE FILE
BAND_CONTENT: BLACK&WHITE
BAND_CONTENT: UNDEFINED
BAND_CONTENT: UNDEFINED
BITS_PER_PIXEL: 8
SAMPLES_AND_LINES: 5408 7590
HORIZONTAL_DATUM: NAD83
HORIZONTAL_COORDINATE_SYSTEM: UTM
COORDINATE_ZONE: 12
HORIZONTAL_UNITS: METERS
HORIZONTAL_RESOLUTION: 1.00000
SECONDARY_HORIZONTAL_DATUM: NAD27
XY_ORIGIN: 448045.92000 5289042.72800
SECONDARY_XY_ORIGIN: 448105.65500 5288828.07500
NATION: US
STATE: MT
NW_QUAD_CORNER_XY: 448468.42700 5288743.22800
NE_QUAD_CORNER_XY: 453153.09700 5288703.50800
SE_QUAD_CORNERY_XY: 453097.03500 5281757.27300
SW_QUAD_CORNER_XY: 448406.75800 5281797.00100
SECONDARY_NW_QUAD_XY: 448466.81300 5288524.42000
SECONDARY_NE_QUAD_XY: 453151.63000 5288484.70000
SECONDARY_SE_QUAD_XY: 453095.56800 5281538.48300
SECONDARY_SW_QUAD_XY: 448405.14500 5281578.21200
RMSE_XY: 1.00000
IMAGE_SOURCE: BLACK AND WHITE FILM
SOURCE_IMAGE_ID: NAPP 8373 108
SOURCE_IMAGE_DATE: 1995 8 9
SOURCE_DEM_DATE: 1997 8 5
AGENCY: WESTERN MAPPING CENTER (WMC)
PRODUCER: Nies Mapping Group
PRODUCTION_SYSTEM: INTERGRAPH- ISPM,ISIR
COMPRESSION: UNDEFINED
STANDARD_VERSION: 1996 12
METADATA_DATE: 1997 12 30
DATA_FILE_SIZE: 41052128
BYTE_COUNT: 5408
