FILENAME: O4711122.SES.727330.tif
QUADRANGLE_NAME: BENTON LAKE EAST
QUADRANT: SE
WEST_LONGITUDE: -111 18 45.00000
EAST_LONGITUDE: -111 15 0.00000
NORTH_LATITUDE: 47 41 15.00000
SOUTH_LATITUDE: 47 37 30.00000
PRODUCTION_DATE: 1997 8 1
RASTER_ORDER: LEFT_RIGHT/TOP_BOTTOM
BAND_ORGANIZATION: SINGLE FILE
BAND_CONTENT: BLACK&WHITE
BAND_CONTENT: UNDEFINED
BAND_CONTENT: UNDEFINED
BITS_PER_PIXEL: 8
SAMPLES_AND_LINES: 5379 7567
HORIZONTAL_DATUM: NAD83
HORIZONTAL_COORDINATE_SYSTEM: UTM
COORDINATE_ZONE: 12
HORIZONTAL_UNITS: METERS
HORIZONTAL_RESOLUTION: 1.00000
SECONDARY_HORIZONTAL_DATUM: NAD27
XY_ORIGIN: 476160.61800 5281914.89100
SECONDARY_XY_ORIGIN: 476219.98100 5281700.21000
NATION: US
STATE: MT
NW_QUAD_CORNER_XY: 476548.48500 5281615.39100
NE_QUAD_CORNER_XY: 481238.78500 5281598.36500
SE_QUAD_CORNERY_XY: 481216.38300 5274652.17400
SW_QUAD_CORNER_XY: 476520.48300 5274669.20300
SECONDARY_NW_QUAD_XY: 476547.75200 5281396.59700
SECONDARY_NE_QUAD_XY: 481238.19800 5281379.57100
SECONDARY_SE_QUAD_XY: 481215.79700 5274433.39900
SECONDARY_SW_QUAD_XY: 476519.75000 5274450.42800
RMSE_XY: 0.90000
IMAGE_SOURCE: BLACK AND WHITE FILM
SOURCE_IMAGE_ID: NAPP 8372 120
SOURCE_IMAGE_DATE: 1995 7 8
SOURCE_DEM_DATE: 1997 8 1
AGENCY: WESTERN MAPPING CENTER (WMC)
PRODUCER: Nies Mapping Group
PRODUCTION_SYSTEM: INTERGRAPH- ISPM,ISIR
COMPRESSION: UNDEFINED
STANDARD_VERSION: 1996 12
METADATA_DATE: 1997 12 28
DATA_FILE_SIZE: 40708272
BYTE_COUNT: 5379
