FILENAME: O4711123.SES.1078177.tif
QUADRANGLE_NAME: FLICK LAKE
QUADRANT: SE
WEST_LONGITUDE: -111 11 15.00000
EAST_LONGITUDE: -111 7 30.00000
NORTH_LATITUDE: 47 41 15.00000
SOUTH_LATITUDE: 47 37 30.00000
PRODUCTION_DATE: 2000 5 4
RASTER_ORDER: LEFT_RIGHT/TOP_BOTTOM
BAND_ORGANIZATION: SINGLE FILE
BAND_CONTENT: BLACK&WHITE
BAND_CONTENT: UNDEFINED
BAND_CONTENT: UNDEFINED
BITS_PER_PIXEL: 8
SAMPLES_AND_LINES: 5370 7563
HORIZONTAL_DATUM: NAD83
HORIZONTAL_COORDINATE_SYSTEM: UTM
COORDINATE_ZONE: 12
HORIZONTAL_UNITS: METERS
HORIZONTAL_RESOLUTION: 1.00000
SECONDARY_HORIZONTAL_DATUM: NAD27
XY_ORIGIN: 485551.00000 5281886.00000
SECONDARY_XY_ORIGIN: 485610.31900 5281671.25400
NATION: US
NATION: "SCIENCE
STATE: MT
NW_QUAD_CORNER_XY: 485929.08700 5281585.12200
NE_QUAD_CORNER_XY: 490619.39000 5281575.66400
SE_QUAD_CORNERY_XY: 490608.19000 5274629.46800
SW_QUAD_CORNER_XY: 485912.28600 5274638.92800
SECONDARY_NW_QUAD_XY: 485928.64700 5281366.32700
SECONDARY_NE_QUAD_XY: 490619.09700 5281356.86800
SECONDARY_SE_QUAD_XY: 490607.89600 5274410.69200
SECONDARY_SW_QUAD_XY: 485911.84600 5274420.15300
RMSE_XY: 0.90000
IMAGE_SOURCE: BLACK AND WHITE FILM
SOURCE_IMAGE_ID: NAPP 8372 070
SOURCE_IMAGE_DATE: 1995 07 08
SOURCE_IMAGE_ID: NAPP 8372 069
SOURCE_IMAGE_DATE: 1995 07 08
SOURCE_IMAGE_ID: NAPP 8372 072
SOURCE_IMAGE_DATE: 1995 07 08
SOURCE_IMAGE_ID: NAPP 8372 043
SOURCE_IMAGE_DATE: 1995 07 08
SOURCE_DEM_DATE: 2000 01 01
AGENCY: WESTERN MAPPING CENTER (WMC)
PRODUCER: UNDEFINED
PRODUCTION_SYSTEM: GIS/MAGIC
COMPRESSION: UNDEFINED
STANDARD_VERSION: 1996 12
METADATA_DATE: 2000 06 02
DATA_FILE_SIZE: 40618680
BYTE_COUNT: 5370
