FILENAME: O4711126.SWS.727403.tif
QUADRANGLE_NAME: FORT SHAW
QUADRANT: SW
WEST_LONGITUDE: -111 52 30.00000
EAST_LONGITUDE: -111 48 45.00000
NORTH_LATITUDE: 47 33 45.00000
SOUTH_LATITUDE: 47 30 0.00000
PRODUCTION_DATE: 1997 8 5
RASTER_ORDER: LEFT_RIGHT/TOP_BOTTOM
BAND_ORGANIZATION: SINGLE FILE
BAND_CONTENT: BLACK&WHITE
BAND_CONTENT: UNDEFINED
BAND_CONTENT: UNDEFINED
BITS_PER_PIXEL: 8
SAMPLES_AND_LINES: 5442 7602
HORIZONTAL_DATUM: NAD83
HORIZONTAL_COORDINATE_SYSTEM: UTM
COORDINATE_ZONE: 12
HORIZONTAL_UNITS: METERS
HORIZONTAL_RESOLUTION: 1.00000
SECONDARY_HORIZONTAL_DATUM: NAD27
XY_ORIGIN: 433739.32600 5268346.21500
SECONDARY_XY_ORIGIN: 433799.47900 5268132.12100
NATION: US
STATE: MT
NW_QUAD_CORNER_XY: 434179.22100 5268046.71500
NE_QUAD_CORNER_XY: 438880.67700 5267995.61500
SE_QUAD_CORNERY_XY: 438808.01400 5261049.63100
SW_QUAD_CORNER_XY: 434100.96900 5261100.74000
SECONDARY_NW_QUAD_XY: 434177.16900 5267827.97100
SECONDARY_NE_QUAD_XY: 438878.77100 5267776.86900
SECONDARY_SE_QUAD_XY: 438806.10800 5260830.90600
SECONDARY_SW_QUAD_XY: 434098.91600 5260882.01700
RMSE_XY: 2.20000
IMAGE_SOURCE: BLACK AND WHITE FILM
SOURCE_IMAGE_ID: NAPP 8373 178
SOURCE_IMAGE_DATE: 1995 8 9
SOURCE_DEM_DATE: 1997 8 5
AGENCY: WESTERN MAPPING CENTER (WMC)
PRODUCER: Nies Mapping Group
PRODUCTION_SYSTEM: INTERGRAPH- ISPM,ISIR
COMPRESSION: UNDEFINED
STANDARD_VERSION: 1996 12
METADATA_DATE: 1997 12 30
DATA_FILE_SIZE: 41375526
BYTE_COUNT: 5442
