FILENAME: O4711127.SWS.727391.tif
QUADRANGLE_NAME: SUN RIVER
QUADRANT: SW
WEST_LONGITUDE: -111 45 0.00000
EAST_LONGITUDE: -111 41 15.00000
NORTH_LATITUDE: 47 33 45.00000
SOUTH_LATITUDE: 47 30 0.00000
PRODUCTION_DATE: 1997 8 5
RASTER_ORDER: LEFT_RIGHT/TOP_BOTTOM
BAND_ORGANIZATION: SINGLE FILE
BAND_CONTENT: BLACK&WHITE
BAND_CONTENT: UNDEFINED
BAND_CONTENT: UNDEFINED
BITS_PER_PIXEL: 8
SAMPLES_AND_LINES: 5430 7594
HORIZONTAL_DATUM: NAD83
HORIZONTAL_COORDINATE_SYSTEM: UTM
COORDINATE_ZONE: 12
HORIZONTAL_UNITS: METERS
HORIZONTAL_RESOLUTION: 1.00000
SECONDARY_HORIZONTAL_DATUM: NAD27
XY_ORIGIN: 443153.96400 5268247.80100
SECONDARY_XY_ORIGIN: 443213.82500 5268033.59700
NATION: US
STATE: MT
NW_QUAD_CORNER_XY: 443582.13900 5267948.30100
NE_QUAD_CORNER_XY: 448283.60600 5267904.77200
SE_QUAD_CORNERY_XY: 448222.12400 5260958.77000
SW_QUAD_CORNER_XY: 443515.06600 5261002.30700
SECONDARY_NW_QUAD_XY: 443580.37900 5267729.55400
SECONDARY_NE_QUAD_XY: 448281.99400 5267686.02400
SECONDARY_SE_QUAD_XY: 448220.51100 5260740.04300
SECONDARY_SW_QUAD_XY: 443513.30700 5260783.58100
RMSE_XY: 2.00000
IMAGE_SOURCE: BLACK AND WHITE FILM
SOURCE_IMAGE_ID: NAPP 8373 132
SOURCE_IMAGE_DATE: 1995 8 9
SOURCE_DEM_DATE: 1997 8 5
AGENCY: WESTERN MAPPING CENTER (WMC)
PRODUCER: Nies Mapping Group
PRODUCTION_SYSTEM: INTERGRAPH- ISPM,ISIR
COMPRESSION: UNDEFINED
STANDARD_VERSION: 1996 12
METADATA_DATE: 1997 12 30
DATA_FILE_SIZE: 41240850
BYTE_COUNT: 5430
