FILENAME: O4711129.SES.727361.tif
QUADRANGLE_NAME: MANCHESTER
QUADRANT: SE
WEST_LONGITUDE: -111 26 15.00000
EAST_LONGITUDE: -111 22 30.00000
NORTH_LATITUDE: 47 33 45.00000
SOUTH_LATITUDE: 47 30 0.00000
PRODUCTION_DATE: 1997 8 1
RASTER_ORDER: LEFT_RIGHT/TOP_BOTTOM
BAND_ORGANIZATION: SINGLE FILE
BAND_CONTENT: BLACK&WHITE
BAND_CONTENT: UNDEFINED
BAND_CONTENT: UNDEFINED
BITS_PER_PIXEL: 8
SAMPLES_AND_LINES: 5401 7575
HORIZONTAL_DATUM: NAD83
HORIZONTAL_COORDINATE_SYSTEM: UTM
COORDINATE_ZONE: 12
HORIZONTAL_UNITS: METERS
HORIZONTAL_RESOLUTION: 1.00000
SECONDARY_HORIZONTAL_DATUM: NAD27
XY_ORIGIN: 466690.17400 5268068.01100
SECONDARY_XY_ORIGIN: 466749.73800 5267853.52100
NATION: US
STATE: MT
NW_QUAD_CORNER_XY: 467089.52600 5267768.51100
NE_QUAD_CORNER_XY: 471791.01600 5267743.90800
SE_QUAD_CORNERY_XY: 471757.48100 5260797.87600
SW_QUAD_CORNER_XY: 467050.40200 5260822.48300
SECONDARY_NW_QUAD_XY: 467088.50000 5267549.75800
SECONDARY_NE_QUAD_XY: 471790.13600 5267525.15400
SECONDARY_SE_QUAD_XY: 471756.60200 5260579.14300
SECONDARY_SW_QUAD_XY: 467049.37600 5260603.75100
RMSE_XY: 1.10000
IMAGE_SOURCE: BLACK AND WHITE FILM
SOURCE_IMAGE_ID: NAPP 8372 166
SOURCE_IMAGE_DATE: 1995 7 8
SOURCE_DEM_DATE: 1997 8 1
AGENCY: WESTERN MAPPING CENTER (WMC)
PRODUCER: Nies Mapping Group
PRODUCTION_SYSTEM: INTERGRAPH- ISPM,ISIR
COMPRESSION: UNDEFINED
STANDARD_VERSION: 1996 12
METADATA_DATE: 1997 12 30
DATA_FILE_SIZE: 40917976
BYTE_COUNT: 5401
