FILENAME: O4711129.NES.727359.tif
QUADRANGLE_NAME: MANCHESTER
QUADRANT: NE
WEST_LONGITUDE: -111 26 15.00000
EAST_LONGITUDE: -111 22 30.00000
NORTH_LATITUDE: 47 37 30.00000
SOUTH_LATITUDE: 47 33 45.00000
PRODUCTION_DATE: 1997 8 1
RASTER_ORDER: LEFT_RIGHT/TOP_BOTTOM
BAND_ORGANIZATION: SINGLE FILE
BAND_CONTENT: BLACK&WHITE
BAND_CONTENT: UNDEFINED
BAND_CONTENT: UNDEFINED
BITS_PER_PIXEL: 8
SAMPLES_AND_LINES: 5396 7575
HORIZONTAL_DATUM: NAD83
HORIZONTAL_COORDINATE_SYSTEM: UTM
COORDINATE_ZONE: 12
HORIZONTAL_UNITS: METERS
HORIZONTAL_RESOLUTION: 1.00000
SECONDARY_HORIZONTAL_DATUM: NAD27
XY_ORIGIN: 466729.41900 5275014.11400
SECONDARY_XY_ORIGIN: 466788.86700 5274799.51600
NATION: US
STATE: MT
NW_QUAD_CORNER_XY: 467128.69000 5274714.61400
NE_QUAD_CORNER_XY: 471824.58500 5274690.01600
SE_QUAD_CORNERY_XY: 471791.01600 5267743.90800
SW_QUAD_CORNER_XY: 467089.52600 5267768.51100
SECONDARY_NW_QUAD_XY: 467127.66400 5274495.84100
SECONDARY_NE_QUAD_XY: 471823.70500 5274471.24200
SECONDARY_SE_QUAD_XY: 471790.13600 5267525.15400
SECONDARY_SW_QUAD_XY: 467088.50000 5267549.75800
RMSE_XY: 0.70000
IMAGE_SOURCE: BLACK AND WHITE FILM
SOURCE_IMAGE_ID: NAPP 8372 168
SOURCE_IMAGE_DATE: 1995 7 8
SOURCE_DEM_DATE: 1997 8 1
AGENCY: WESTERN MAPPING CENTER (WMC)
PRODUCER: Nies Mapping Group
PRODUCTION_SYSTEM: INTERGRAPH- ISPM,ISIR
COMPRESSION: UNDEFINED
STANDARD_VERSION: 1996 12
METADATA_DATE: 1997 12 30
DATA_FILE_SIZE: 40880096
BYTE_COUNT: 5396
