FILENAME: O4711130.NWS.727333.tif
QUADRANGLE_NAME: NORTHWEST GREAT FALLS
QUADRANT: NW
WEST_LONGITUDE: -111 22 30.00000
EAST_LONGITUDE: -111 18 45.00000
NORTH_LATITUDE: 47 37 30.00000
SOUTH_LATITUDE: 47 33 45.00000
PRODUCTION_DATE: 1997 8 1
RASTER_ORDER: LEFT_RIGHT/TOP_BOTTOM
BAND_ORGANIZATION: SINGLE FILE
BAND_CONTENT: BLACK&WHITE
BAND_CONTENT: UNDEFINED
BAND_CONTENT: UNDEFINED
BITS_PER_PIXEL: 8
SAMPLES_AND_LINES: 5390 7571
HORIZONTAL_DATUM: NAD83
HORIZONTAL_COORDINATE_SYSTEM: UTM
COORDINATE_ZONE: 12
HORIZONTAL_UNITS: METERS
HORIZONTAL_RESOLUTION: 1.00000
SECONDARY_HORIZONTAL_DATUM: NAD27
XY_ORIGIN: 471430.90100 5274989.51600
SECONDARY_XY_ORIGIN: 471490.43300 5274774.94400
NATION: US
STATE: MT
NW_QUAD_CORNER_XY: 471824.58500 5274690.01600
NE_QUAD_CORNER_XY: 476520.48300 5274669.20300
SE_QUAD_CORNERY_XY: 476492.50900 5267723.09100
SW_QUAD_CORNER_XY: 471791.01600 5267743.90800
SECONDARY_NW_QUAD_XY: 471823.70500 5274471.24200
SECONDARY_NE_QUAD_XY: 476519.75000 5274450.42800
SECONDARY_SE_QUAD_XY: 476491.77600 5267504.33600
SECONDARY_SW_QUAD_XY: 471790.13600 5267525.15400
RMSE_XY: 1.20000
IMAGE_SOURCE: BLACK AND WHITE FILM
SOURCE_IMAGE_ID: NAPP 8372 145
SOURCE_IMAGE_DATE: 1995 7 8
SOURCE_DEM_DATE: 1997 8 1
AGENCY: WESTERN MAPPING CENTER (WMC)
PRODUCER: Nies Mapping Group
PRODUCTION_SYSTEM: INTERGRAPH- ISPM,ISIR
COMPRESSION: UNDEFINED
STANDARD_VERSION: 1996 12
METADATA_DATE: 1997 12 30
DATA_FILE_SIZE: 40813080
BYTE_COUNT: 5390
