FILENAME: O4711131.NES.727312.tif
QUADRANGLE_NAME: NORTHEAST GREAT FALLS
QUADRANT: NE
WEST_LONGITUDE: -111 11 15.00000
EAST_LONGITUDE: -111 7 30.00000
NORTH_LATITUDE: 47 37 30.00000
SOUTH_LATITUDE: 47 33 45.00000
PRODUCTION_DATE: 1997 8 1
RASTER_ORDER: LEFT_RIGHT/TOP_BOTTOM
BAND_ORGANIZATION: SINGLE FILE
BAND_CONTENT: BLACK&WHITE
BAND_CONTENT: UNDEFINED
BAND_CONTENT: UNDEFINED
BITS_PER_PIXEL: 8
SAMPLES_AND_LINES: 5373 7560
HORIZONTAL_DATUM: NAD83
HORIZONTAL_COORDINATE_SYSTEM: UTM
COORDINATE_ZONE: 12
HORIZONTAL_UNITS: METERS
HORIZONTAL_RESOLUTION: 1.00000
SECONDARY_HORIZONTAL_DATUM: NAD27
XY_ORIGIN: 485535.49600 5274938.42900
SECONDARY_XY_ORIGIN: 485595.18500 5274723.76500
NATION: US
STATE: MT
NW_QUAD_CORNER_XY: 485912.28600 5274638.92900
NE_QUAD_CORNER_XY: 490608.19000 5274629.46900
SE_QUAD_CORNERY_XY: 490597.00000 5267683.34900
SW_QUAD_CORNER_XY: 485895.50100 5267692.81100
SECONDARY_NW_QUAD_XY: 485911.84600 5274420.15400
SECONDARY_NE_QUAD_XY: 490607.89600 5274410.69300
SECONDARY_SE_QUAD_XY: 490596.70700 5267464.59300
SECONDARY_SW_QUAD_XY: 485895.06200 5267474.05600
RMSE_XY: 1.80000
IMAGE_SOURCE: BLACK AND WHITE FILM
SOURCE_IMAGE_ID: NAPP 8372 68
SOURCE_IMAGE_DATE: 1995 7 8
SOURCE_DEM_DATE: 1997 8 1
AGENCY: WESTERN MAPPING CENTER (WMC)
PRODUCER: Nies Mapping Group
PRODUCTION_SYSTEM: INTERGRAPH- ISPM,ISIR
COMPRESSION: UNDEFINED
STANDARD_VERSION: 1996 12
METADATA_DATE: 1997 12 30
DATA_FILE_SIZE: 40625253
BYTE_COUNT: 5373
