FILENAME: O4711132.NES.1078181.tif
QUADRANGLE_NAME: MORONY DAM
QUADRANT: NE
WEST_LONGITUDE: -111 3 45.00000
EAST_LONGITUDE: -111 0 0.00000
NORTH_LATITUDE: 47 37 30.00000
SOUTH_LATITUDE: 47 33 45.00000
PRODUCTION_DATE: 2000 5 8
RASTER_ORDER: LEFT_RIGHT/TOP_BOTTOM
BAND_ORGANIZATION: SINGLE FILE
BAND_CONTENT: BLACK&WHITE
BAND_CONTENT: UNDEFINED
BAND_CONTENT: UNDEFINED
BITS_PER_PIXEL: 8
SAMPLES_AND_LINES: 5364 7554
HORIZONTAL_DATUM: NAD83
HORIZONTAL_COORDINATE_SYSTEM: UTM
COORDINATE_ZONE: 12
HORIZONTAL_UNITS: METERS
HORIZONTAL_RESOLUTION: 1.00000
SECONDARY_HORIZONTAL_DATUM: NAD27
XY_ORIGIN: 494937.00000 5274924.00000
SECONDARY_XY_ORIGIN: 494996.64700 5274709.03600
NATION: US
NATION: "SCIENCE
STATE: MT
NW_QUAD_CORNER_XY: 495304.09500 5274623.79100
NE_QUAD_CORNER_XY: 500000.00000 5274621.89900
SE_QUAD_CORNERY_XY: 500000.00000 5267675.77800
SW_QUAD_CORNER_XY: 495298.50000 5267677.67000
SECONDARY_NW_QUAD_XY: 495303.94800 5274405.01500
SECONDARY_NE_QUAD_XY: 500000.00000 5274403.12300
SECONDARY_SE_QUAD_XY: 500000.00000 5267457.02200
SECONDARY_SW_QUAD_XY: 495298.35300 5267458.91500
RMSE_XY: 1.20000
IMAGE_SOURCE: BLACK AND WHITE FILM
SOURCE_IMAGE_ID: NAPP 8373 024
SOURCE_IMAGE_DATE: 1995 08 09
SOURCE_IMAGE_ID: NAPP 8372 046
SOURCE_IMAGE_DATE: 1995 07 08
SOURCE_IMAGE_ID: NAPP 8373 025
SOURCE_IMAGE_DATE: 1995 08 09
SOURCE_DEM_DATE: 2000 01 01
AGENCY: WESTERN MAPPING CENTER (WMC)
PRODUCER: UNDEFINED
PRODUCTION_SYSTEM: GIS/MAGIC
COMPRESSION: UNDEFINED
STANDARD_VERSION: 1996 12
METADATA_DATE: 2000 06 02
DATA_FILE_SIZE: 40525020
BYTE_COUNT: 5364
