FILENAME: O4711133.NWS.727433.tif
QUADRANGLE_NAME: SIMMS
QUADRANT: NW
WEST_LONGITUDE: -112 0 0.00000
EAST_LONGITUDE: -111 56 15.00000
NORTH_LATITUDE: 47 30 0.00000
SOUTH_LATITUDE: 47 26 15.00000
PRODUCTION_DATE: 1997 8 11
RASTER_ORDER: LEFT_RIGHT/TOP_BOTTOM
BAND_ORGANIZATION: SINGLE FILE
BAND_CONTENT: BLACK&WHITE
BAND_CONTENT: UNDEFINED
BAND_CONTENT: UNDEFINED
BITS_PER_PIXEL: 8
SAMPLES_AND_LINES: 5459 7609
HORIZONTAL_DATUM: NAD83
HORIZONTAL_COORDINATE_SYSTEM: UTM
COORDINATE_ZONE: 12
HORIZONTAL_UNITS: METERS
HORIZONTAL_RESOLUTION: 1.00000
SECONDARY_HORIZONTAL_DATUM: NAD27
XY_ORIGIN: 424235.26600 5261513.81900
SECONDARY_XY_ORIGIN: 424295.62500 5261299.96000
NATION: US
STATE: MT
NW_QUAD_CORNER_XY: 424686.89800 5261214.31900
NE_QUAD_CORNER_XY: 429393.93000 5261155.63600
SE_QUAD_CORNERY_XY: 429310.17100 5254209.74600
SW_QUAD_CORNER_XY: 424597.55500 5254268.43900
SECONDARY_NW_QUAD_XY: 424684.55300 5260995.59900
SECONDARY_NE_QUAD_XY: 429391.73100 5260936.91500
SECONDARY_SE_QUAD_XY: 429307.97300 5253991.04600
SECONDARY_SW_QUAD_XY: 424595.20900 5254049.74200
RMSE_XY: 1.20000
IMAGE_SOURCE: BLACK AND WHITE FILM
SOURCE_IMAGE_ID: NAPP 8373 250
SOURCE_IMAGE_DATE: 1995 8 9
SOURCE_DEM_DATE: 1997 8 11
AGENCY: WESTERN MAPPING CENTER (WMC)
PRODUCER: Nies Mapping Group
PRODUCTION_SYSTEM: INTERGRAPH- ISPM,ISIR
COMPRESSION: UNDEFINED
STANDARD_VERSION: 1996 12
METADATA_DATE: 1997 12 30
DATA_FILE_SIZE: 41542990
BYTE_COUNT: 5459
