FILENAME: O4711134.SWS.727407.tif
QUADRANGLE_NAME: CASCADE COLONY
QUADRANT: SW
WEST_LONGITUDE: -111 52 30.00000
EAST_LONGITUDE: -111 48 45.00000
NORTH_LATITUDE: 47 26 15.00000
SOUTH_LATITUDE: 47 22 30.00000
PRODUCTION_DATE: 1997 8 4
RASTER_ORDER: LEFT_RIGHT/TOP_BOTTOM
BAND_ORGANIZATION: SINGLE FILE
BAND_CONTENT: BLACK&WHITE
BAND_CONTENT: UNDEFINED
BAND_CONTENT: UNDEFINED
BITS_PER_PIXEL: 8
SAMPLES_AND_LINES: 5453 7602
HORIZONTAL_DATUM: NAD83
HORIZONTAL_COORDINATE_SYSTEM: UTM
COORDINATE_ZONE: 12
HORIZONTAL_UNITS: METERS
HORIZONTAL_RESOLUTION: 1.00000
SECONDARY_HORIZONTAL_DATUM: NAD27
XY_ORIGIN: 433582.85500 5254454.34000
SECONDARY_XY_ORIGIN: 433643.05200 5254240.48500
NATION: US
STATE: MT
NW_QUAD_CORNER_XY: 434022.79500 5254154.84000
NE_QUAD_CORNER_XY: 438735.42500 5254103.72100
SE_QUAD_CORNERY_XY: 438662.90900 5247157.88500
SW_QUAD_CORNER_XY: 433944.70000 5247209.01300
SECONDARY_NW_QUAD_XY: 434020.74300 5253936.13800
SECONDARY_NE_QUAD_XY: 438733.51900 5253885.01800
SECONDARY_SE_QUAD_XY: 438661.00400 5246939.20500
SECONDARY_SW_QUAD_XY: 433942.64800 5246990.33500
RMSE_XY: 2.00000
IMAGE_SOURCE: BLACK AND WHITE FILM
SOURCE_IMAGE_ID: NAPP 8373 182
SOURCE_IMAGE_DATE: 1995 8 9
SOURCE_DEM_DATE: 1997 8 4
AGENCY: WESTERN MAPPING CENTER (WMC)
PRODUCER: Nies Mapping Group
PRODUCTION_SYSTEM: INTERGRAPH- ISPM,ISIR
COMPRESSION: UNDEFINED
STANDARD_VERSION: 1996 12
METADATA_DATE: 1997 12 30
DATA_FILE_SIZE: 41459159
BYTE_COUNT: 5453
