FILENAME: O4711139.SWS.727319.tif
QUADRANGLE_NAME: SOUTHEAST GREAT FALLS
QUADRANT: SW
WEST_LONGITUDE: -111 15 0.00000
EAST_LONGITUDE: -111 11 15.00000
NORTH_LATITUDE: 47 26 15.00000
SOUTH_LATITUDE: 47 22 30.00000
PRODUCTION_DATE: 1997 8 1
RASTER_ORDER: LEFT_RIGHT/TOP_BOTTOM
BAND_ORGANIZATION: SINGLE FILE
BAND_CONTENT: BLACK&WHITE
BAND_CONTENT: UNDEFINED
BAND_CONTENT: UNDEFINED
BITS_PER_PIXEL: 8
SAMPLES_AND_LINES: 5395 7564
HORIZONTAL_DATUM: NAD83
HORIZONTAL_COORDINATE_SYSTEM: UTM
COORDINATE_ZONE: 12
HORIZONTAL_UNITS: METERS
HORIZONTAL_RESOLUTION: 1.00000
SECONDARY_HORIZONTAL_DATUM: NAD27
XY_ORIGIN: 480767.10500 5254113.55500
SECONDARY_XY_ORIGIN: 480827.19800 5253899.42700
NATION: US
STATE: MT
NW_QUAD_CORNER_XY: 481149.31400 5253814.05500
NE_QUAD_CORNER_XY: 485861.98400 5253800.80300
SE_QUAD_CORNERY_XY: 485845.25000 5246854.91300
SW_QUAD_CORNER_XY: 481127.00200 5246868.16800
SECONDARY_NW_QUAD_XY: 481148.72700 5253595.34400
SECONDARY_NE_QUAD_XY: 485861.54400 5253582.09100
SECONDARY_SE_QUAD_XY: 485844.81000 5246636.22400
SECONDARY_SW_QUAD_XY: 481126.41600 5246649.47900
RMSE_XY: 1.40000
IMAGE_SOURCE: BLACK AND WHITE FILM
SOURCE_IMAGE_ID: NAPP 8372 101
SOURCE_IMAGE_DATE: 1995 7 8
SOURCE_DEM_DATE: 1997 8 1
AGENCY: WESTERN MAPPING CENTER (WMC)
PRODUCER: Nies Mapping Group
PRODUCTION_SYSTEM: INTERGRAPH- ISPM,ISIR
COMPRESSION: UNDEFINED
STANDARD_VERSION: 1996 12
METADATA_DATE: 1997 12 30
DATA_FILE_SIZE: 40813175
BYTE_COUNT: 5395
