FILENAME: O4711139.SES.727318.tif
QUADRANGLE_NAME: SOUTHEAST GREAT FALLS
QUADRANT: SE
WEST_LONGITUDE: -111 11 15.00000
EAST_LONGITUDE: -111 7 30.00000
NORTH_LATITUDE: 47 26 15.00000
SOUTH_LATITUDE: 47 22 30.00000
PRODUCTION_DATE: 1997 8 1
RASTER_ORDER: LEFT_RIGHT/TOP_BOTTOM
BAND_ORGANIZATION: SINGLE FILE
BAND_CONTENT: BLACK&WHITE
BAND_CONTENT: UNDEFINED
BAND_CONTENT: UNDEFINED
BITS_PER_PIXEL: 8
SAMPLES_AND_LINES: 5390 7560
HORIZONTAL_DATUM: NAD83
HORIZONTAL_COORDINATE_SYSTEM: UTM
COORDINATE_ZONE: 12
HORIZONTAL_UNITS: METERS
HORIZONTAL_RESOLUTION: 1.00000
SECONDARY_HORIZONTAL_DATUM: NAD27
XY_ORIGIN: 485485.42700 5254100.30300
SECONDARY_XY_ORIGIN: 485545.59100 5253885.95300
NATION: US
STATE: MT
NW_QUAD_CORNER_XY: 485861.98400 5253800.80300
NE_QUAD_CORNER_XY: 490574.65500 5253791.33700
SE_QUAD_CORNERY_XY: 490563.49900 5246845.44500
SW_QUAD_CORNER_XY: 485845.25000 5246854.91300
SECONDARY_NW_QUAD_XY: 485861.54400 5253582.09100
SECONDARY_NE_QUAD_XY: 490574.36200 5253572.62500
SECONDARY_SE_QUAD_XY: 490563.20600 5246626.75600
SECONDARY_SW_QUAD_XY: 485844.81000 5246636.22400
RMSE_XY: 1.20000
IMAGE_SOURCE: BLACK AND WHITE FILM
SOURCE_IMAGE_ID: NAPP 8372 62
SOURCE_IMAGE_DATE: 1995 7 8
SOURCE_DEM_DATE: 1997 8 1
AGENCY: WESTERN MAPPING CENTER (WMC)
PRODUCER: Nies Mapping Group
PRODUCTION_SYSTEM: INTERGRAPH- ISPM,ISIR
COMPRESSION: UNDEFINED
STANDARD_VERSION: 1996 12
METADATA_DATE: 1997 12 30
DATA_FILE_SIZE: 40753790
BYTE_COUNT: 5390
