FILENAME: O4711141.SES.956569.tif
QUADRANGLE_NAME: TELEGRAPH MOUNTAIN
QUADRANT: SE
WEST_LONGITUDE: -111 56 15.00000
EAST_LONGITUDE: -111 52 30.00000
NORTH_LATITUDE: 47 18 45.00000
SOUTH_LATITUDE: 47 15 0.00000
PRODUCTION_DATE: 1998 12 29
RASTER_ORDER: LEFT_RIGHT/TOP_BOTTOM
BAND_ORGANIZATION: SINGLE FILE
BAND_CONTENT: BLACK&WHITE
BAND_CONTENT: UNDEFINED
BAND_CONTENT: UNDEFINED
BITS_PER_PIXEL: 8
SAMPLES_AND_LINES: 5520 7650
HORIZONTAL_DATUM: NAD83
HORIZONTAL_COORDINATE_SYSTEM: UTM
COORDINATE_ZONE: 12
HORIZONTAL_UNITS: METERS
HORIZONTAL_RESOLUTION: 1.00000
SECONDARY_HORIZONTAL_DATUM: NAD27
XY_ORIGIN: 428670.00000 5240640.00000
SECONDARY_XY_ORIGIN: 428730.53100 5240426.36400
NATION: US
STATE: MT
NW_QUAD_CORNER_XY: 429142.90800 5240318.18600
NE_QUAD_CORNER_XY: 433866.68400 5240263.26100
SE_QUAD_CORNERY_XY: 433788.74800 5233317.58300
SW_QUAD_CORNER_XY: 429059.40400 5233372.51800
SECONDARY_NW_QUAD_XY: 429140.71000 5240099.53400
SECONDARY_NE_QUAD_XY: 433864.63300 5240044.60600
SECONDARY_SE_QUAD_XY: 433786.69700 5233098.95300
SECONDARY_SW_QUAD_XY: 429057.20700 5233153.89000
RMSE_XY: 1.00000
IMAGE_SOURCE: BLACK AND WHITE FILM
SOURCE_IMAGE_ID: NAPP 8373 241
SOURCE_IMAGE_DATE: 1995 08 09
SOURCE_DEM_DATE: 1983 00 00
AGENCY: WESTERN MAPPING CENTER (WMC)
PRODUCER: ANALYTICAL SURVEYS INC.
PRODUCTION_SYSTEM: ORBIT OR_RECTIFY V.5.2
COMPRESSION: UNDEFINED
STANDARD_VERSION: 1996 12
METADATA_DATE: 1999 01 05
DATA_FILE_SIZE: 42233520
BYTE_COUNT: 5520
