FILENAME: O4711142.NWS.956573.tif
QUADRANGLE_NAME: MOUNT CECELIA
QUADRANT: NW
WEST_LONGITUDE: -111 52 30.00000
EAST_LONGITUDE: -111 48 45.00000
NORTH_LATITUDE: 47 22 30.00000
SOUTH_LATITUDE: 47 18 45.00000
PRODUCTION_DATE: 1998 12 29
RASTER_ORDER: LEFT_RIGHT/TOP_BOTTOM
BAND_ORGANIZATION: SINGLE FILE
BAND_CONTENT: BLACK&WHITE
BAND_CONTENT: UNDEFINED
BAND_CONTENT: UNDEFINED
BITS_PER_PIXEL: 8
SAMPLES_AND_LINES: 5490 7620
HORIZONTAL_DATUM: NAD83
HORIZONTAL_COORDINATE_SYSTEM: UTM
COORDINATE_ZONE: 12
HORIZONTAL_UNITS: METERS
HORIZONTAL_RESOLUTION: 1.00000
SECONDARY_HORIZONTAL_DATUM: NAD27
XY_ORIGIN: 433500.00000 5247510.00000
SECONDARY_XY_ORIGIN: 433560.29900 5247296.24400
NATION: US
STATE: MT
NW_QUAD_CORNER_XY: 433944.70000 5247209.01300
NE_QUAD_CORNER_XY: 438662.90900 5247157.88400
SE_QUAD_CORNERY_XY: 438590.46700 5240212.12300
SW_QUAD_CORNER_XY: 433866.68400 5240263.26100
SECONDARY_NW_QUAD_XY: 433942.64800 5246990.33400
SECONDARY_NE_QUAD_XY: 438661.00400 5246939.20500
SECONDARY_SE_QUAD_XY: 438588.56200 5239993.46700
SECONDARY_SW_QUAD_XY: 433864.63300 5240044.60600
RMSE_XY: 1.16000
IMAGE_SOURCE: BLACK AND WHITE FILM
SOURCE_IMAGE_ID: NAPP 8373 184
SOURCE_IMAGE_DATE: 1995 08 09
SOURCE_DEM_DATE: 1983 00 00
AGENCY: WESTERN MAPPING CENTER (WMC)
PRODUCER: ANALYTICAL SURVEYS INC.
PRODUCTION_SYSTEM: ORBIT OR_RECTIFY V.5.2
COMPRESSION: UNDEFINED
STANDARD_VERSION: 1996 12
METADATA_DATE: 1999 01 05
DATA_FILE_SIZE: 41839290
BYTE_COUNT: 5490
