FILENAME: O4711144.SES.956514.tif
QUADRANGLE_NAME: NELSON ISLAND
QUADRANT: SE
WEST_LONGITUDE: -111 33 45.00000
EAST_LONGITUDE: -111 30 0.00000
NORTH_LATITUDE: 47 18 45.00000
SOUTH_LATITUDE: 47 15 0.00000
PRODUCTION_DATE: 1998 12 31
RASTER_ORDER: LEFT_RIGHT/TOP_BOTTOM
BAND_ORGANIZATION: SINGLE FILE
BAND_CONTENT: BLACK&WHITE
BAND_CONTENT: UNDEFINED
BAND_CONTENT: UNDEFINED
BITS_PER_PIXEL: 8
SAMPLES_AND_LINES: 5460 7620
HORIZONTAL_DATUM: NAD83
HORIZONTAL_COORDINATE_SYSTEM: UTM
COORDINATE_ZONE: 12
HORIZONTAL_UNITS: METERS
HORIZONTAL_RESOLUTION: 1.00000
SECONDARY_HORIZONTAL_DATUM: NAD27
XY_ORIGIN: 457050.00000 5240370.00000
SECONDARY_XY_ORIGIN: 457109.70400 5240156.17100
NATION: US
STATE: MT
NW_QUAD_CORNER_XY: 457485.64900 5240045.45700
NE_QUAD_CORNER_XY: 462209.45600 5240013.26100
SE_QUAD_CORNERY_XY: 462164.92300 5233067.54100
SW_QUAD_CORNER_XY: 457435.54900 5233099.74300
SECONDARY_NW_QUAD_XY: 457484.33000 5239826.79600
SECONDARY_NE_QUAD_XY: 462208.28300 5239794.59900
SECONDARY_SE_QUAD_XY: 462163.75000 5232848.90300
SECONDARY_SW_QUAD_XY: 457434.23000 5232881.10600
RMSE_XY: 1.40000
IMAGE_SOURCE: BLACK AND WHITE FILM
SOURCE_IMAGE_ID: NAPP 8373 44
SOURCE_IMAGE_DATE: 1995 08 09
SOURCE_DEM_DATE: 1975 00 00
AGENCY: WESTERN MAPPING CENTER (WMC)
PRODUCER: ANALYTICAL SURVEYS INC.
PRODUCTION_SYSTEM: ORBIT OR_RECTIFY V.5.2
COMPRESSION: UNDEFINED
STANDARD_VERSION: 1996 12
METADATA_DATE: 1999 01 05
DATA_FILE_SIZE: 41610660
BYTE_COUNT: 5460
