FILENAME: O4711149.NWS.1154484.tif
QUADRANGLE_NAME: MID CANON
QUADRANT: NW
WEST_LONGITUDE: -112 0 0.00000
EAST_LONGITUDE: -111 56 15.00000
NORTH_LATITUDE: 47 15 0.00000
SOUTH_LATITUDE: 47 11 15.00000
PRODUCTION_DATE: 2001 04 11
RASTER_ORDER: LEFT_RIGHT/TOP_BOTTOM
BAND_ORGANIZATION: SINGLE FILE
BAND_CONTENT: BLACK&WHITE
BAND_CONTENT: UNDEFINED
BAND_CONTENT: UNDEFINED
BITS_PER_PIXEL: 8
SAMPLES_AND_LINES: 5490 7620
HORIZONTAL_DATUM: NAD83
HORIZONTAL_COORDINATE_SYSTEM: UTM
COORDINATE_ZONE: 12
HORIZONTAL_UNITS: METERS
HORIZONTAL_RESOLUTION: 1.00000
SECONDARY_HORIZONTAL_DATUM: NAD27
XY_ORIGIN: 423870.00000 5233740.00000
SECONDARY_XY_ORIGIN: 423930.76700 5233526.45700
NATION: US
STATE: MT
NW_QUAD_CORNER_XY: 424330.06700 5233431.24200
NE_QUAD_CORNER_XY: 429059.40400 5233372.51800
SE_QUAD_CORNERY_XY: 428975.98600 5226426.92400
SW_QUAD_CORNER_XY: 424241.08600 5226485.65800
SECONDARY_NW_QUAD_XY: 424327.72300 5233212.61600
SECONDARY_NE_QUAD_XY: 429057.20700 5233153.89000
SECONDARY_SE_QUAD_XY: 428973.78800 5226208.32100
SECONDARY_SW_QUAD_XY: 424238.74200 5226267.05700
RMSE_XY: 3.30000
IMAGE_SOURCE: BLACK AND WHITE FILM
SOURCE_IMAGE_ID: NAPP 11009 62
SOURCE_IMAGE_DATE: 1998 07 22
SOURCE_IMAGE_ID: NAPP 9182 30
SOURCE_IMAGE_DATE: 1997 09 09
SOURCE_IMAGE_ID: NAPP 11009 60
SOURCE_IMAGE_DATE: 1998 07 22
SOURCE_DEM_DATE: 2001 01 01
AGENCY: WESTERN MAPPING CENTER (WMC)
PRODUCER: ANALYTICAL SURVEYS INC.
PRODUCTION_SYSTEM: ORBIT OR_RECTIFY V.5.2
COMPRESSION: UNDEFINED
STANDARD_VERSION: 1996 12
METADATA_DATE: 2001 04 12
DATA_FILE_SIZE: 41839290
BYTE_COUNT: 5490
