FILENAME: O4711150.SES.1154489.tif
QUADRANGLE_NAME: HARDY
QUADRANT: SE
WEST_LONGITUDE: -111 48 45.00000
EAST_LONGITUDE: -111 45 0.00000
NORTH_LATITUDE: 47 11 15.00000
SOUTH_LATITUDE: 47 7 30.00000
PRODUCTION_DATE: 2001 07 16
RASTER_ORDER: LEFT_RIGHT/TOP_BOTTOM
BAND_ORGANIZATION: SINGLE FILE
BAND_CONTENT: BLACK&WHITE
BAND_CONTENT: UNDEFINED
BAND_CONTENT: UNDEFINED
BITS_PER_PIXEL: 8
SAMPLES_AND_LINES: 5490 7620
HORIZONTAL_DATUM: NAD83
HORIZONTAL_COORDINATE_SYSTEM: UTM
COORDINATE_ZONE: 12
HORIZONTAL_UNITS: METERS
HORIZONTAL_RESOLUTION: 1.00000
SECONDARY_HORIZONTAL_DATUM: NAD27
XY_ORIGIN: 438000.00000 5226630.00000
SECONDARY_XY_ORIGIN: 438060.43100 5226416.60200
NATION: US
STATE: MT
NW_QUAD_CORNER_XY: 438445.80300 5226320.82500
NE_QUAD_CORNER_XY: 443180.72000 5226273.46100
SE_QUAD_CORNERY_XY: 443114.05500 5219327.91600
SW_QUAD_CORNER_XY: 438373.58200 5219375.28800
SECONDARY_NW_QUAD_XY: 438443.89800 5226102.21900
SECONDARY_NE_QUAD_XY: 443178.96200 5226054.85300
SECONDARY_SE_QUAD_XY: 443112.29700 5219109.33500
SECONDARY_SW_QUAD_XY: 438371.67700 5219156.70800
RMSE_XY: 3.63000
IMAGE_SOURCE: BLACK AND WHITE FILM
SOURCE_IMAGE_ID: NAPP 9181 243
SOURCE_IMAGE_DATE: 1997 09 09
SOURCE_IMAGE_ID: NAPP 9181 250
SOURCE_IMAGE_DATE: 1997 09 09
SOURCE_IMAGE_ID: NAPP 9181 241
SOURCE_IMAGE_DATE: 1997 09 09
SOURCE_DEM_DATE: 2001 01 01
AGENCY: WESTERN MAPPING CENTER (WMC)
PRODUCER: ANALYTICAL SURVEYS INC.
PRODUCTION_SYSTEM: ORBIT OR_RECTIFY V.5.2
COMPRESSION: UNDEFINED
STANDARD_VERSION: 1996 12
METADATA_DATE: 2001 08 11
DATA_FILE_SIZE: 41839290
BYTE_COUNT: 5490
