FILENAME: O4711151.SES.1154493.tif
QUADRANGLE_NAME: ROCKY REEF
QUADRANT: SE
WEST_LONGITUDE: -111 41 15.00000
EAST_LONGITUDE: -111 37 30.00000
NORTH_LATITUDE: 47 11 15.00000
SOUTH_LATITUDE: 47 7 30.00000
PRODUCTION_DATE: 2001 07 16
RASTER_ORDER: LEFT_RIGHT/TOP_BOTTOM
BAND_ORGANIZATION: SINGLE FILE
BAND_CONTENT: BLACK&WHITE
BAND_CONTENT: UNDEFINED
BAND_CONTENT: UNDEFINED
BITS_PER_PIXEL: 8
SAMPLES_AND_LINES: 5490 7620
HORIZONTAL_DATUM: NAD83
HORIZONTAL_COORDINATE_SYSTEM: UTM
COORDINATE_ZONE: 12
HORIZONTAL_UNITS: METERS
HORIZONTAL_RESOLUTION: 1.00000
SECONDARY_HORIZONTAL_DATUM: NAD27
XY_ORIGIN: 447480.00000 5226540.00000
SECONDARY_XY_ORIGIN: 447540.12800 5226326.57800
NATION: US
STATE: MT
NW_QUAD_CORNER_XY: 447915.64200 5226229.88500
NE_QUAD_CORNER_XY: 452650.56900 5226190.10000
SE_QUAD_CORNERY_XY: 452595.01600 5219244.54100
SW_QUAD_CORNER_XY: 447854.53300 5219284.33400
SECONDARY_NW_QUAD_XY: 447914.03100 5226011.27700
SECONDARY_NE_QUAD_XY: 452649.10400 5225971.49000
SECONDARY_SE_QUAD_XY: 452593.55100 5219025.95800
SECONDARY_SW_QUAD_XY: 447852.92200 5219065.75100
RMSE_XY: 1.40000
IMAGE_SOURCE: BLACK AND WHITE FILM
SOURCE_IMAGE_ID: NAPP 9181 161
SOURCE_IMAGE_DATE: 1997 09 09
SOURCE_IMAGE_ID: NAPP 9181 168
SOURCE_IMAGE_DATE: 1997 09 09
SOURCE_DEM_DATE: 1992 00 00
AGENCY: WESTERN MAPPING CENTER (WMC)
PRODUCER: ANALYTICAL SURVEYS INC.
PRODUCTION_SYSTEM: ORBIT OR_RECTIFY V.5.2
COMPRESSION: UNDEFINED
STANDARD_VERSION: 1996 12
METADATA_DATE: 2001 08 11
DATA_FILE_SIZE: 41839290
BYTE_COUNT: 5490
