FILENAME: O4711158.NES.1154559.tif
QUADRANGLE_NAME: THE SAWTEETH
QUADRANT: NE
WEST_LONGITUDE: -111 48 45.00000
EAST_LONGITUDE: -111 45 0.00000
NORTH_LATITUDE: 47 7 30.00000
SOUTH_LATITUDE: 47 3 45.00000
PRODUCTION_DATE: 2001 07 16
RASTER_ORDER: LEFT_RIGHT/TOP_BOTTOM
BAND_ORGANIZATION: SINGLE FILE
BAND_CONTENT: BLACK&WHITE
BAND_CONTENT: UNDEFINED
BAND_CONTENT: UNDEFINED
BITS_PER_PIXEL: 8
SAMPLES_AND_LINES: 5520 7650
HORIZONTAL_DATUM: NAD83
HORIZONTAL_COORDINATE_SYSTEM: UTM
COORDINATE_ZONE: 12
HORIZONTAL_UNITS: METERS
HORIZONTAL_RESOLUTION: 1.00000
SECONDARY_HORIZONTAL_DATUM: NAD27
XY_ORIGIN: 437910.00000 5219700.00000
SECONDARY_XY_ORIGIN: 437970.49000 5219486.74900
NATION: US
STATE: MT
NW_QUAD_CORNER_XY: 438373.58200 5219375.28800
NE_QUAD_CORNER_XY: 443114.05500 5219327.91600
SE_QUAD_CORNERY_XY: 443047.45800 5212382.44600
SW_QUAD_CORNER_XY: 438301.43400 5212429.82600
SECONDARY_NW_QUAD_XY: 438371.67700 5219156.70800
SECONDARY_NE_QUAD_XY: 443112.29700 5219109.33500
SECONDARY_SE_QUAD_XY: 443045.70000 5212163.89200
SECONDARY_SW_QUAD_XY: 438299.53000 5212211.27300
RMSE_XY: 3.30000
IMAGE_SOURCE: BLACK AND WHITE FILM
SOURCE_IMAGE_ID: NAPP 9181 241
SOURCE_IMAGE_DATE: 1997 09 09
SOURCE_IMAGE_ID: NAPP 9181 239
SOURCE_IMAGE_DATE: 1997 09 09
SOURCE_DEM_DATE: 1956 00 00
AGENCY: WESTERN MAPPING CENTER (WMC)
PRODUCER: ANALYTICAL SURVEYS INC.
PRODUCTION_SYSTEM: ORBIT OR_RECTIFY V.5.2
COMPRESSION: UNDEFINED
STANDARD_VERSION: 1996 12
METADATA_DATE: 2001 07 18
DATA_FILE_SIZE: 42233520
BYTE_COUNT: 5520
