FILENAME: O4711159.SWS.1154566.tif
QUADRANGLE_NAME: HOUND CREEK RESERVOIR
QUADRANT: SW
WEST_LONGITUDE: -111 45 0.00000
EAST_LONGITUDE: -111 41 15.00000
NORTH_LATITUDE: 47 3 45.00000
SOUTH_LATITUDE: 47 0 0.00000
PRODUCTION_DATE: 2001 07 16
RASTER_ORDER: LEFT_RIGHT/TOP_BOTTOM
BAND_ORGANIZATION: SINGLE FILE
BAND_CONTENT: BLACK&WHITE
BAND_CONTENT: UNDEFINED
BAND_CONTENT: UNDEFINED
BITS_PER_PIXEL: 8
SAMPLES_AND_LINES: 5520 7650
HORIZONTAL_DATUM: NAD83
HORIZONTAL_COORDINATE_SYSTEM: UTM
COORDINATE_ZONE: 12
HORIZONTAL_UNITS: METERS
HORIZONTAL_RESOLUTION: 1.00000
SECONDARY_HORIZONTAL_DATUM: NAD27
XY_ORIGIN: 442590.00000 5212710.00000
SECONDARY_XY_ORIGIN: 442650.41500 5212496.90900
NATION: US
STATE: MT
NW_QUAD_CORNER_XY: 443047.45800 5212382.44600
NE_QUAD_CORNER_XY: 447793.48600 5212338.85700
SE_QUAD_CORNERY_XY: 447732.50200 5205393.45500
SW_QUAD_CORNER_XY: 442980.92900 5205437.05100
SECONDARY_NW_QUAD_XY: 443045.70000 5212163.89200
SECONDARY_NE_QUAD_XY: 447791.87500 5212120.30100
SECONDARY_SE_QUAD_XY: 447730.89100 5205174.92800
SECONDARY_SW_QUAD_XY: 442979.17200 5205218.52500
RMSE_XY: 2.73000
IMAGE_SOURCE: BLACK AND WHITE FILM
SOURCE_IMAGE_ID: NAPP 9181 172
SOURCE_IMAGE_DATE: 1997 09 09
SOURCE_DEM_DATE: 1956 00 00
AGENCY: WESTERN MAPPING CENTER (WMC)
PRODUCER: ANALYTICAL SURVEYS INC.
PRODUCTION_SYSTEM: ORBIT OR_RECTIFY V.5.2
COMPRESSION: UNDEFINED
STANDARD_VERSION: 1996 12
METADATA_DATE: 2001 07 18
DATA_FILE_SIZE: 42233520
BYTE_COUNT: 5520
