FILENAME: O4711159.SES.1154565.tif
QUADRANGLE_NAME: HOUND CREEK RESERVOIR
QUADRANT: SE
WEST_LONGITUDE: -111 41 15.00000
EAST_LONGITUDE: -111 37 30.00000
NORTH_LATITUDE: 47 3 45.00000
SOUTH_LATITUDE: 47 0 0.00000
PRODUCTION_DATE: 2001 07 16
RASTER_ORDER: LEFT_RIGHT/TOP_BOTTOM
BAND_ORGANIZATION: SINGLE FILE
BAND_CONTENT: BLACK&WHITE
BAND_CONTENT: UNDEFINED
BAND_CONTENT: UNDEFINED
BITS_PER_PIXEL: 8
SAMPLES_AND_LINES: 5490 7620
HORIZONTAL_DATUM: NAD83
HORIZONTAL_COORDINATE_SYSTEM: UTM
COORDINATE_ZONE: 12
HORIZONTAL_UNITS: METERS
HORIZONTAL_RESOLUTION: 1.00000
SECONDARY_HORIZONTAL_DATUM: NAD27
XY_ORIGIN: 447360.00000 5212650.00000
SECONDARY_XY_ORIGIN: 447420.23000 5212436.89700
NATION: US
STATE: MT
NW_QUAD_CORNER_XY: 447793.48600 5212338.85700
NE_QUAD_CORNER_XY: 452539.51900 5212299.05800
SE_QUAD_CORNERY_XY: 452484.07900 5205353.65100
SW_QUAD_CORNER_XY: 447732.50200 5205393.45500
SECONDARY_NW_QUAD_XY: 447791.87500 5212120.30100
SECONDARY_NE_QUAD_XY: 452538.05500 5212080.50200
SECONDARY_SE_QUAD_XY: 452482.61500 5205135.12200
SECONDARY_SW_QUAD_XY: 447730.89100 5205174.92800
RMSE_XY: 1.15000
IMAGE_SOURCE: BLACK AND WHITE FILM
SOURCE_IMAGE_ID: NAPP 9181 157
SOURCE_IMAGE_DATE: 1997 09 09
SOURCE_DEM_DATE: 1956 00 00
AGENCY: WESTERN MAPPING CENTER (WMC)
PRODUCER: ANALYTICAL SURVEYS INC.
PRODUCTION_SYSTEM: ORBIT OR_RECTIFY V.5.2
COMPRESSION: UNDEFINED
STANDARD_VERSION: 1996 12
METADATA_DATE: 2001 07 18
DATA_FILE_SIZE: 41839290
BYTE_COUNT: 5490
