FILENAME: O4711004.NES.1080839.tif
QUADRANGLE_NAME: LOMA WEST
QUADRANT: NE
WEST_LONGITUDE: -110 33 45.00000
EAST_LONGITUDE: -110 30 0.00000
NORTH_LATITUDE: 48 0 0.00000
SOUTH_LATITUDE: 47 56 15.00000
PRODUCTION_DATE: 2000 5 22
RASTER_ORDER: LEFT_RIGHT/TOP_BOTTOM
BAND_ORGANIZATION: SINGLE FILE
BAND_CONTENT: BLACK&WHITE
BAND_CONTENT: UNDEFINED
BAND_CONTENT: UNDEFINED
BITS_PER_PIXEL: 8
SAMPLES_AND_LINES: 5367 7582
HORIZONTAL_DATUM: NAD83
HORIZONTAL_COORDINATE_SYSTEM: UTM
COORDINATE_ZONE: 12
HORIZONTAL_UNITS: METERS
HORIZONTAL_RESOLUTION: 1.00000
SECONDARY_HORIZONTAL_DATUM: NAD27
XY_ORIGIN: 532277.00000 5316722.00000
SECONDARY_XY_ORIGIN: 532335.52200 5316506.64700
NATION: US
NATION: "SCIENCE
STATE: MT
NW_QUAD_CORNER_XY: 532635.50000 5316392.82000
NE_QUAD_CORNER_XY: 537297.70300 5316421.16600
SE_QUAD_CORNERY_XY: 537342.73100 5309474.61600
SW_QUAD_CORNER_XY: 532674.90000 5309446.26300
SECONDARY_NW_QUAD_XY: 532636.52700 5316173.94200
SECONDARY_NE_QUAD_XY: 537298.87700 5316202.28900
SECONDARY_SE_QUAD_XY: 537343.90500 5309255.75400
SECONDARY_SW_QUAD_XY: 532675.92700 5309227.40100
RMSE_XY: 1.40000
IMAGE_SOURCE: BLACK AND WHITE FILM
SOURCE_IMAGE_ID: NAPP 9167 082
SOURCE_IMAGE_DATE: 1996 08 26
SOURCE_IMAGE_ID: NAPP 9167 150
SOURCE_IMAGE_DATE: 1996 08 26
SOURCE_IMAGE_ID: NAPP 9167 081
SOURCE_IMAGE_DATE: 1996 08 26
SOURCE_IMAGE_ID: NAPP 9167 083
SOURCE_IMAGE_DATE: 1996 08 26
SOURCE_IMAGE_ID: NAPP 9164 212
SOURCE_IMAGE_DATE: 1996 07 27
SOURCE_DEM_DATE: 1952 00 00
AGENCY: WESTERN MAPPING CENTER (WMC)
PRODUCER: UNDEFINED
PRODUCTION_SYSTEM: GIS/MAGIC
COMPRESSION: UNDEFINED
STANDARD_VERSION: 1996 12
METADATA_DATE: 2000 06 13
DATA_FILE_SIZE: 40697961
BYTE_COUNT: 5367
