FILENAME: O4711006.NWS.1081006.tif
QUADRANGLE_NAME: STRANAHAN
QUADRANT: NW
WEST_LONGITUDE: -110 22 30.00000
EAST_LONGITUDE: -110 18 45.00000
NORTH_LATITUDE: 48 0 0.00000
SOUTH_LATITUDE: 47 56 15.00000
PRODUCTION_DATE: 2000 5 24
RASTER_ORDER: LEFT_RIGHT/TOP_BOTTOM
BAND_ORGANIZATION: SINGLE FILE
BAND_CONTENT: BLACK&WHITE
BAND_CONTENT: UNDEFINED
BAND_CONTENT: UNDEFINED
BITS_PER_PIXEL: 8
SAMPLES_AND_LINES: 5385 7592
HORIZONTAL_DATUM: NAD83
HORIZONTAL_COORDINATE_SYSTEM: UTM
COORDINATE_ZONE: 12
HORIZONTAL_UNITS: METERS
HORIZONTAL_RESOLUTION: 1.00000
SECONDARY_HORIZONTAL_DATUM: NAD27
XY_ORIGIN: 546263.00000 5316829.00000
SECONDARY_XY_ORIGIN: 546321.59300 5316613.63100
NATION: US
NATION: "SCIENCE
STATE: MT
NW_QUAD_CORNER_XY: 546622.09400 5316489.19700
NE_QUAD_CORNER_XY: 551284.28200 5316528.88300
SE_QUAD_CORNERY_XY: 551346.19700 5309582.35600
SW_QUAD_CORNER_XY: 546678.38100 5309542.66200
SECONDARY_NW_QUAD_XY: 546623.56100 5316270.32300
SECONDARY_NE_QUAD_XY: 551285.89500 5316310.00900
SECONDARY_SE_QUAD_XY: 551347.81100 5309363.49800
SECONDARY_SW_QUAD_XY: 546679.84800 5309323.80300
RMSE_XY: 2.80000
IMAGE_SOURCE: BLACK AND WHITE FILM
SOURCE_IMAGE_ID: NAPP 9177 155
SOURCE_IMAGE_DATE: 1997 09 04
SOURCE_IMAGE_ID: NAPP 9177 156
SOURCE_IMAGE_DATE: 1997 09 04
SOURCE_IMAGE_ID: NAPP 9177 076
SOURCE_IMAGE_DATE: 1997 09 04
SOURCE_DEM_DATE: 1952 00 00
AGENCY: WESTERN MAPPING CENTER (WMC)
PRODUCER: UNDEFINED
PRODUCTION_SYSTEM: GIS/MAGIC
COMPRESSION: UNDEFINED
STANDARD_VERSION: 1996 12
METADATA_DATE: 2000 06 13
DATA_FILE_SIZE: 40888305
BYTE_COUNT: 5385
