FILENAME: O4711008.SES.1081035.tif
QUADRANGLE_NAME: PILOT ROCK
QUADRANT: SE
WEST_LONGITUDE: -110 3 45.00000
EAST_LONGITUDE: -110 0 0.00000
NORTH_LATITUDE: 47 56 15.00000
SOUTH_LATITUDE: 47 52 30.00000
PRODUCTION_DATE: 2000 5 25
RASTER_ORDER: LEFT_RIGHT/TOP_BOTTOM
BAND_ORGANIZATION: SINGLE FILE
BAND_CONTENT: BLACK&WHITE
BAND_CONTENT: UNDEFINED
BAND_CONTENT: UNDEFINED
BITS_PER_PIXEL: 8
SAMPLES_AND_LINES: 5418 7611
HORIZONTAL_DATUM: NAD83
HORIZONTAL_COORDINATE_SYSTEM: UTM
COORDINATE_ZONE: 12
HORIZONTAL_UNITS: METERS
HORIZONTAL_RESOLUTION: 1.00000
SECONDARY_HORIZONTAL_DATUM: NAD27
XY_ORIGIN: 569659.00000 5310138.00000
SECONDARY_XY_ORIGIN: 569717.73100 5309922.43900
NATION: US
NATION: "SCIENCE
STATE: MT
NW_QUAD_CORNER_XY: 570017.39500 5309778.94100
NE_QUAD_CORNER_XY: 574685.17500 5309837.53900
SE_QUAD_CORNERY_XY: 574775.14900 5302891.14400
SW_QUAD_CORNER_XY: 570101.74500 5302832.53200
SECONDARY_NW_QUAD_XY: 570019.59600 5309560.08900
SECONDARY_NE_QUAD_XY: 574687.52300 5309618.68900
SECONDARY_SE_QUAD_XY: 574777.49600 5302672.31000
SECONDARY_SW_QUAD_XY: 570103.94500 5302613.69600
RMSE_XY: 0.60000
IMAGE_SOURCE: BLACK AND WHITE FILM
SOURCE_IMAGE_ID: NAPP 9178 200
SOURCE_IMAGE_DATE: 1997 09 04
SOURCE_IMAGE_ID: NAPP 9178 274
SOURCE_IMAGE_DATE: 1997 09 04
SOURCE_IMAGE_ID: NAPP 9178 199
SOURCE_IMAGE_DATE: 1997 09 04
SOURCE_IMAGE_ID: NAPP 9178 201
SOURCE_IMAGE_DATE: 1997 09 04
SOURCE_DEM_DATE: 1952 00 00
AGENCY: WESTERN MAPPING CENTER (WMC)
PRODUCER: UNDEFINED
PRODUCTION_SYSTEM: GIS/MAGIC
COMPRESSION: UNDEFINED
STANDARD_VERSION: 1996 12
METADATA_DATE: 2000 06 13
DATA_FILE_SIZE: 41241816
BYTE_COUNT: 5418
