FILENAME: O4711008.NES.1081033.tif
QUADRANGLE_NAME: PILOT ROCK
QUADRANT: NE
WEST_LONGITUDE: -110 3 45.00000
EAST_LONGITUDE: -110 0 0.00000
NORTH_LATITUDE: 48 0 0.00000
SOUTH_LATITUDE: 47 56 15.00000
PRODUCTION_DATE: 2000 5 25
RASTER_ORDER: LEFT_RIGHT/TOP_BOTTOM
BAND_ORGANIZATION: SINGLE FILE
BAND_CONTENT: BLACK&WHITE
BAND_CONTENT: UNDEFINED
BAND_CONTENT: UNDEFINED
BITS_PER_PIXEL: 8
SAMPLES_AND_LINES: 5412 7612
HORIZONTAL_DATUM: NAD83
HORIZONTAL_COORDINATE_SYSTEM: UTM
COORDINATE_ZONE: 12
HORIZONTAL_UNITS: METERS
HORIZONTAL_RESOLUTION: 1.00000
SECONDARY_HORIZONTAL_DATUM: NAD27
XY_ORIGIN: 569575.00000 5317085.00000
SECONDARY_XY_ORIGIN: 569633.76900 5316869.48200
NATION: US
NATION: "SCIENCE
STATE: MT
NW_QUAD_CORNER_XY: 569932.96200 5316725.42300
NE_QUAD_CORNER_XY: 574595.11200 5316784.00900
SE_QUAD_CORNERY_XY: 574685.17500 5309837.53900
SW_QUAD_CORNER_XY: 570017.39500 5309778.94100
SECONDARY_NW_QUAD_XY: 569935.16300 5316506.55600
SECONDARY_NE_QUAD_XY: 574597.46000 5316565.14300
SECONDARY_SE_QUAD_XY: 574687.52300 5309618.68900
SECONDARY_SW_QUAD_XY: 570019.59600 5309560.08900
RMSE_XY: 0.90000
IMAGE_SOURCE: BLACK AND WHITE FILM
SOURCE_IMAGE_ID: NAPP 9178 202
SOURCE_IMAGE_DATE: 1997 09 04
SOURCE_IMAGE_ID: NAPP 9178 272
SOURCE_IMAGE_DATE: 1997 09 04
SOURCE_IMAGE_ID: NAPP 9158 018
SOURCE_IMAGE_DATE: 1997 09 04
SOURCE_DEM_DATE: 1952 00 00
AGENCY: WESTERN MAPPING CENTER (WMC)
PRODUCER: UNDEFINED
PRODUCTION_SYSTEM: GIS/MAGIC
COMPRESSION: UNDEFINED
STANDARD_VERSION: 1996 12
METADATA_DATE: 2000 06 13
DATA_FILE_SIZE: 41201556
BYTE_COUNT: 5412
