FILENAME: O4711010.NES.1080791.tif
QUADRANGLE_NAME: TUNIS
QUADRANT: NE
WEST_LONGITUDE: -110 48 45.00000
EAST_LONGITUDE: -110 45 0.00000
NORTH_LATITUDE: 47 52 30.00000
SOUTH_LATITUDE: 47 48 45.00000
PRODUCTION_DATE: 2000 5 16
RASTER_ORDER: LEFT_RIGHT/TOP_BOTTOM
BAND_ORGANIZATION: SINGLE FILE
BAND_CONTENT: BLACK&WHITE
BAND_CONTENT: UNDEFINED
BAND_CONTENT: UNDEFINED
BITS_PER_PIXEL: 8
SAMPLES_AND_LINES: 5357 7566
HORIZONTAL_DATUM: NAD83
HORIZONTAL_COORDINATE_SYSTEM: UTM
COORDINATE_ZONE: 12
HORIZONTAL_UNITS: METERS
HORIZONTAL_RESOLUTION: 1.00000
SECONDARY_HORIZONTAL_DATUM: NAD27
XY_ORIGIN: 513661.00000 5302738.00000
SECONDARY_XY_ORIGIN: 513719.51400 5302522.81300
NATION: US
NATION: "SCIENCE
STATE: MT
NW_QUAD_CORNER_XY: 514020.40800 5302424.16000
NE_QUAD_CORNER_XY: 518693.87500 5302437.39400
SE_QUAD_CORNERY_XY: 518716.34400 5295490.97500
SW_QUAD_CORNER_XY: 514037.26000 5295477.73800
SECONDARY_NW_QUAD_XY: 514020.84800 5302205.31100
SECONDARY_NE_QUAD_XY: 518694.46200 5302218.54600
SECONDARY_SE_QUAD_XY: 518716.93100 5295272.14400
SECONDARY_SW_QUAD_XY: 514037.70000 5295258.90600
RMSE_XY: 1.60000
IMAGE_SOURCE: BLACK AND WHITE FILM
SOURCE_IMAGE_ID: NAPP 9167 283
SOURCE_IMAGE_DATE: 1996 08 26
SOURCE_IMAGE_ID: NAPP 9167 282
SOURCE_IMAGE_DATE: 1996 08 26
SOURCE_IMAGE_ID: NAPP 9167 284
SOURCE_IMAGE_DATE: 1996 08 26
SOURCE_IMAGE_ID: NAPP 9167 252
SOURCE_IMAGE_DATE: 1996 08 26
SOURCE_DEM_DATE: 1987 00 00
AGENCY: WESTERN MAPPING CENTER (WMC)
PRODUCER: UNDEFINED
PRODUCTION_SYSTEM: GIS/MAGIC
COMPRESSION: UNDEFINED
STANDARD_VERSION: 1996 12
METADATA_DATE: 2000 06 13
DATA_FILE_SIZE: 40536419
BYTE_COUNT: 5357
