FILENAME: O4711011.NWS.1080800.tif
QUADRANGLE_NAME: FORT BENTON
QUADRANT: NW
WEST_LONGITUDE: -110 45 0.00000
EAST_LONGITUDE: -110 41 15.00000
NORTH_LATITUDE: 47 52 30.00000
SOUTH_LATITUDE: 47 48 45.00000
PRODUCTION_DATE: 2000 5 16
RASTER_ORDER: LEFT_RIGHT/TOP_BOTTOM
BAND_ORGANIZATION: SINGLE FILE
BAND_CONTENT: BLACK&WHITE
BAND_CONTENT: UNDEFINED
BAND_CONTENT: UNDEFINED
BITS_PER_PIXEL: 8
SAMPLES_AND_LINES: 5362 7570
HORIZONTAL_DATUM: NAD83
HORIZONTAL_COORDINATE_SYSTEM: UTM
COORDINATE_ZONE: 12
HORIZONTAL_UNITS: METERS
HORIZONTAL_RESOLUTION: 1.00000
SECONDARY_HORIZONTAL_DATUM: NAD27
XY_ORIGIN: 518335.00000 5302755.00000
SECONDARY_XY_ORIGIN: 518393.42100 5302539.81600
NATION: US
NATION: "SCIENCE
STATE: MT
NW_QUAD_CORNER_XY: 518693.87500 5302437.39400
NE_QUAD_CORNER_XY: 523367.34000 5302454.40900
SE_QUAD_CORNERY_XY: 523395.42600 5295507.99300
SW_QUAD_CORNER_XY: 518716.34400 5295490.97500
SECONDARY_NW_QUAD_XY: 518694.46200 5302218.54600
SECONDARY_NE_QUAD_XY: 523368.07300 5302235.56100
SECONDARY_SE_QUAD_XY: 523396.16000 5295289.16300
SECONDARY_SW_QUAD_XY: 518716.93100 5295272.14400
RMSE_XY: 2.00000
IMAGE_SOURCE: BLACK AND WHITE FILM
SOURCE_IMAGE_ID: NAPP 9167 252
SOURCE_IMAGE_DATE: 1996 08 26
SOURCE_IMAGE_ID: NAPP 9167 253
SOURCE_IMAGE_DATE: 1996 08 26
SOURCE_IMAGE_ID: NAPP 9167 251
SOURCE_IMAGE_DATE: 1996 08 26
SOURCE_DEM_DATE: 1952 00 00
AGENCY: WESTERN MAPPING CENTER (WMC)
PRODUCER: UNDEFINED
PRODUCTION_SYSTEM: GIS/MAGIC
COMPRESSION: UNDEFINED
STANDARD_VERSION: 1996 12
METADATA_DATE: 2000 06 13
DATA_FILE_SIZE: 40595702
BYTE_COUNT: 5362
