FILENAME: O4711014.SWS.1081012.tif
QUADRANGLE_NAME: STRANAHAN SE
QUADRANT: SW
WEST_LONGITUDE: -110 22 30.00000
EAST_LONGITUDE: -110 18 45.00000
NORTH_LATITUDE: 47 48 45.00000
SOUTH_LATITUDE: 47 45 0.00000
PRODUCTION_DATE: 2000 5 23
RASTER_ORDER: LEFT_RIGHT/TOP_BOTTOM
BAND_ORGANIZATION: SINGLE FILE
BAND_CONTENT: BLACK&WHITE
BAND_CONTENT: UNDEFINED
BAND_CONTENT: UNDEFINED
BITS_PER_PIXEL: 8
SAMPLES_AND_LINES: 5401 7592
HORIZONTAL_DATUM: NAD83
HORIZONTAL_COORDINATE_SYSTEM: UTM
COORDINATE_ZONE: 12
HORIZONTAL_UNITS: METERS
HORIZONTAL_RESOLUTION: 1.00000
SECONDARY_HORIZONTAL_DATUM: NAD27
XY_ORIGIN: 546432.00000 5295990.00000
SECONDARY_XY_ORIGIN: 546490.45200 5295774.59800
NATION: US
NATION: "SCIENCE
STATE: MT
NW_QUAD_CORNER_XY: 546790.78500 5295649.81700
NE_QUAD_CORNER_XY: 551469.84300 5295689.52800
SE_QUAD_CORNERY_XY: 551531.57300 5288743.22700
SW_QUAD_CORNER_XY: 546846.90300 5288703.50700
SECONDARY_NW_QUAD_XY: 546792.25200 5295430.99100
SECONDARY_NE_QUAD_XY: 551471.45600 5295470.70300
SECONDARY_SE_QUAD_XY: 551533.18700 5288524.41900
SECONDARY_SW_QUAD_XY: 546848.37000 5288484.69900
RMSE_XY: 4.40000
IMAGE_SOURCE: BLACK AND WHITE FILM
SOURCE_IMAGE_ID: NAPP 9177 161
SOURCE_IMAGE_DATE: 1997 09 04
SOURCE_IMAGE_ID: NAPP 9177 160
SOURCE_IMAGE_DATE: 1997 09 04
SOURCE_DEM_DATE: 1990 00 00
AGENCY: WESTERN MAPPING CENTER (WMC)
PRODUCER: UNDEFINED
PRODUCTION_SYSTEM: GIS/MAGIC
COMPRESSION: UNDEFINED
STANDARD_VERSION: 1996 12
METADATA_DATE: 2000 06 13
DATA_FILE_SIZE: 41009793
BYTE_COUNT: 5401
