FILENAME: O4711015.NWS.1081022.tif
QUADRANGLE_NAME: EAGLE BUTTES SW
QUADRANT: NW
WEST_LONGITUDE: -110 15 0.00000
EAST_LONGITUDE: -110 11 15.00000
NORTH_LATITUDE: 47 52 30.00000
SOUTH_LATITUDE: 47 48 45.00000
PRODUCTION_DATE: 2000 5 24
RASTER_ORDER: LEFT_RIGHT/TOP_BOTTOM
BAND_ORGANIZATION: SINGLE FILE
BAND_CONTENT: BLACK&WHITE
BAND_CONTENT: UNDEFINED
BAND_CONTENT: UNDEFINED
BITS_PER_PIXEL: 8
SAMPLES_AND_LINES: 5406 7600
HORIZONTAL_DATUM: NAD83
HORIZONTAL_COORDINATE_SYSTEM: UTM
COORDINATE_ZONE: 12
HORIZONTAL_UNITS: METERS
HORIZONTAL_RESOLUTION: 1.00000
SECONDARY_HORIZONTAL_DATUM: NAD27
XY_ORIGIN: 555723.00000 5303027.00000
SECONDARY_XY_ORIGIN: 555781.56500 5302811.59200
NATION: US
NATION: "SCIENCE
STATE: MT
NW_QUAD_CORNER_XY: 556081.48500 5302679.38900
NE_QUAD_CORNER_XY: 560754.91200 5302726.65500
SE_QUAD_CORNERY_XY: 560827.94000 5295780.29800
SW_QUAD_CORNER_XY: 556148.89500 5295733.02200
SECONDARY_NW_QUAD_XY: 556083.24500 5302460.54900
SECONDARY_NE_QUAD_XY: 560756.81900 5302507.81600
SECONDARY_SE_QUAD_XY: 560829.84700 5295561.47600
SECONDARY_SW_QUAD_XY: 556150.65500 5295514.19800
RMSE_XY: 2.60000
IMAGE_SOURCE: BLACK AND WHITE FILM
SOURCE_IMAGE_ID: NAPP 9177 048
SOURCE_IMAGE_DATE: 1997 09 04
SOURCE_IMAGE_ID: NAPP 9177 047
SOURCE_IMAGE_DATE: 1997 09 04
SOURCE_DEM_DATE: 1993 00 00
AGENCY: WESTERN MAPPING CENTER (WMC)
PRODUCER: UNDEFINED
PRODUCTION_SYSTEM: GIS/MAGIC
COMPRESSION: UNDEFINED
STANDARD_VERSION: 1996 12
METADATA_DATE: 2000 06 13
DATA_FILE_SIZE: 41091006
BYTE_COUNT: 5406
