FILENAME: O4711016.NES.1081037.tif
QUADRANGLE_NAME: EAGLE BUTTES
QUADRANT: NE
WEST_LONGITUDE: -110 3 45.00000
EAST_LONGITUDE: -110 0 0.00000
NORTH_LATITUDE: 47 52 30.00000
SOUTH_LATITUDE: 47 48 45.00000
PRODUCTION_DATE: 2000 5 25
RASTER_ORDER: LEFT_RIGHT/TOP_BOTTOM
BAND_ORGANIZATION: SINGLE FILE
BAND_CONTENT: BLACK&WHITE
BAND_CONTENT: UNDEFINED
BAND_CONTENT: UNDEFINED
BITS_PER_PIXEL: 8
SAMPLES_AND_LINES: 5423 7611
HORIZONTAL_DATUM: NAD83
HORIZONTAL_COORDINATE_SYSTEM: UTM
COORDINATE_ZONE: 12
HORIZONTAL_UNITS: METERS
HORIZONTAL_RESOLUTION: 1.00000
SECONDARY_HORIZONTAL_DATUM: NAD27
XY_ORIGIN: 569744.00000 5303192.00000
SECONDARY_XY_ORIGIN: 569802.69400 5302976.39600
NATION: US
NATION: "SCIENCE
STATE: MT
NW_QUAD_CORNER_XY: 570101.74500 5302832.53200
NE_QUAD_CORNER_XY: 574775.14900 5302891.14400
SE_QUAD_CORNERY_XY: 574865.03200 5295944.82200
SW_QUAD_CORNER_XY: 570186.01000 5295886.19800
SECONDARY_NW_QUAD_XY: 570103.94500 5302613.69600
SECONDARY_NE_QUAD_XY: 574777.49600 5302672.31000
SECONDARY_SE_QUAD_XY: 574867.37900 5295726.00500
SECONDARY_SW_QUAD_XY: 570188.21000 5295667.37900
RMSE_XY: 2.90000
IMAGE_SOURCE: BLACK AND WHITE FILM
SOURCE_IMAGE_ID: NAPP 9178 199
SOURCE_IMAGE_DATE: 1997 09 04
SOURCE_IMAGE_ID: NAPP 9178 276
SOURCE_IMAGE_DATE: 1997 09 04
SOURCE_IMAGE_ID: NAPP 9178 275
SOURCE_IMAGE_DATE: 1997 09 04
SOURCE_IMAGE_ID: NAPP 9178 274
SOURCE_IMAGE_DATE: 1997 09 04
SOURCE_IMAGE_ID: NAPP 9178 197
SOURCE_IMAGE_DATE: 1997 09 04
SOURCE_DEM_DATE: 1992 00 00
AGENCY: WESTERN MAPPING CENTER (WMC)
PRODUCER: UNDEFINED
PRODUCTION_SYSTEM: GIS/MAGIC
COMPRESSION: UNDEFINED
STANDARD_VERSION: 1996 12
METADATA_DATE: 2000 06 13
DATA_FILE_SIZE: 41279876
BYTE_COUNT: 5423
