FILENAME: O4711018.NES.1079967.tif
QUADRANGLE_NAME: RICE RESERVOIR
QUADRANT: NE
WEST_LONGITUDE: -110 48 45.00000
EAST_LONGITUDE: -110 45 0.00000
NORTH_LATITUDE: 47 45 0.00000
SOUTH_LATITUDE: 47 41 15.00000
PRODUCTION_DATE: 2000 5 10
RASTER_ORDER: LEFT_RIGHT/TOP_BOTTOM
BAND_ORGANIZATION: SINGLE FILE
BAND_CONTENT: BLACK&WHITE
BAND_CONTENT: UNDEFINED
BAND_CONTENT: UNDEFINED
BITS_PER_PIXEL: 8
SAMPLES_AND_LINES: 5368 7566
HORIZONTAL_DATUM: NAD83
HORIZONTAL_COORDINATE_SYSTEM: UTM
COORDINATE_ZONE: 12
HORIZONTAL_UNITS: METERS
HORIZONTAL_RESOLUTION: 1.00000
SECONDARY_HORIZONTAL_DATUM: NAD27
XY_ORIGIN: 513695.00000 5288845.00000
SECONDARY_XY_ORIGIN: 513753.47000 5288629.90600
NATION: US
NATION: "SCIENCE
STATE: MT
NW_QUAD_CORNER_XY: 514054.09500 5288531.39200
NE_QUAD_CORNER_XY: 518738.79100 5288544.63200
SE_QUAD_CORNERY_XY: 518761.21500 5281598.36400
SW_QUAD_CORNER_XY: 514070.91300 5281585.12200
SECONDARY_NW_QUAD_XY: 514054.53500 5288312.57800
SECONDARY_NE_QUAD_XY: 518739.37700 5288325.81800
SECONDARY_SE_QUAD_XY: 518761.80200 5281379.57000
SECONDARY_SW_QUAD_XY: 514071.35300 5281366.32700
RMSE_XY: 1.20000
IMAGE_SOURCE: BLACK AND WHITE FILM
SOURCE_IMAGE_ID: NAPP 9167 279
SOURCE_IMAGE_DATE: 1996 08 26
SOURCE_IMAGE_ID: NAPP 9167 280
SOURCE_IMAGE_DATE: 1996 08 26
SOURCE_DEM_DATE: 1952 00 00
AGENCY: WESTERN MAPPING CENTER (WMC)
PRODUCER: UNDEFINED
PRODUCTION_SYSTEM: GIS/MAGIC
COMPRESSION: UNDEFINED
STANDARD_VERSION: 1996 12
METADATA_DATE: 2000 06 12
DATA_FILE_SIZE: 40619656
BYTE_COUNT: 5368
