FILENAME: O4711019.SES.1079981.tif
QUADRANGLE_NAME: SHONKIN NW
QUADRANT: SE
WEST_LONGITUDE: -110 41 15.00000
EAST_LONGITUDE: -110 37 30.00000
NORTH_LATITUDE: 47 41 15.00000
SOUTH_LATITUDE: 47 37 30.00000
PRODUCTION_DATE: 2000 5 10
RASTER_ORDER: LEFT_RIGHT/TOP_BOTTOM
BAND_ORGANIZATION: SINGLE FILE
BAND_CONTENT: BLACK&WHITE
BAND_CONTENT: UNDEFINED
BAND_CONTENT: UNDEFINED
BITS_PER_PIXEL: 8
SAMPLES_AND_LINES: 5385 7574
HORIZONTAL_DATUM: NAD83
HORIZONTAL_COORDINATE_SYSTEM: UTM
COORDINATE_ZONE: 12
HORIZONTAL_UNITS: METERS
HORIZONTAL_RESOLUTION: 1.00000
SECONDARY_HORIZONTAL_DATUM: NAD27
XY_ORIGIN: 523092.00000 5281937.00000
SECONDARY_XY_ORIGIN: 523150.53200 5281721.87200
NATION: US
NATION: "SCIENCE
STATE: MT
NW_QUAD_CORNER_XY: 523451.51500 5281615.39000
NE_QUAD_CORNER_XY: 528141.81200 5281636.19900
SE_QUAD_CORNERY_XY: 528175.41500 5274690.01500
SW_QUAD_CORNER_XY: 523479.51700 5274669.20200
SECONDARY_NW_QUAD_XY: 523452.24800 5281396.59600
SECONDARY_NE_QUAD_XY: 528142.69200 5281417.40600
SECONDARY_SE_QUAD_XY: 528176.29500 5274471.24100
SECONDARY_SW_QUAD_XY: 523480.25000 5274450.42700
RMSE_XY: 0.70000
IMAGE_SOURCE: BLACK AND WHITE FILM
SOURCE_IMAGE_ID: NAPP 9167 170
SOURCE_IMAGE_DATE: 1996 08 26
SOURCE_IMAGE_ID: NAPP 9167 259
SOURCE_IMAGE_DATE: 1996 08 26
SOURCE_IMAGE_ID: NAPP 9167 257
SOURCE_IMAGE_DATE: 1996 08 26
SOURCE_IMAGE_ID: NAPP 9167 168
SOURCE_IMAGE_DATE: 1996 08 26
SOURCE_DEM_DATE: 1971 00 00
AGENCY: WESTERN MAPPING CENTER (WMC)
PRODUCER: UNDEFINED
PRODUCTION_SYSTEM: GIS/MAGIC
COMPRESSION: UNDEFINED
STANDARD_VERSION: 1996 12
METADATA_DATE: 2000 06 12
DATA_FILE_SIZE: 40791375
BYTE_COUNT: 5385
