FILENAME: O4711020.NWS.1079984.tif
QUADRANGLE_NAME: SHONKIN
QUADRANT: NW
WEST_LONGITUDE: -110 37 30.00000
EAST_LONGITUDE: -110 33 45.00000
NORTH_LATITUDE: 47 45 0.00000
SOUTH_LATITUDE: 47 41 15.00000
PRODUCTION_DATE: 2000 5 10
RASTER_ORDER: LEFT_RIGHT/TOP_BOTTOM
BAND_ORGANIZATION: SINGLE FILE
BAND_CONTENT: BLACK&WHITE
BAND_CONTENT: UNDEFINED
BAND_CONTENT: UNDEFINED
BITS_PER_PIXEL: 8
SAMPLES_AND_LINES: 5385 7578
HORIZONTAL_DATUM: NAD83
HORIZONTAL_COORDINATE_SYSTEM: UTM
COORDINATE_ZONE: 12
HORIZONTAL_UNITS: METERS
HORIZONTAL_RESOLUTION: 1.00000
SECONDARY_HORIZONTAL_DATUM: NAD27
XY_ORIGIN: 527749.00000 5288908.00000
SECONDARY_XY_ORIGIN: 527807.34500 5288692.76000
NATION: US
NATION: "SCIENCE
STATE: MT
NW_QUAD_CORNER_XY: 528108.17600 5288582.45900
NE_QUAD_CORNER_XY: 532792.86400 5288607.04600
SE_QUAD_CORNERY_XY: 532832.10600 5281660.79200
SW_QUAD_CORNER_XY: 528141.81200 5281636.19900
SECONDARY_NW_QUAD_XY: 528109.05600 5288363.64600
SECONDARY_NE_QUAD_XY: 532793.89000 5288388.23500
SECONDARY_SE_QUAD_XY: 532833.13300 5281441.99900
SECONDARY_SW_QUAD_XY: 528142.69200 5281417.40600
RMSE_XY: 1.70000
IMAGE_SOURCE: BLACK AND WHITE FILM
SOURCE_IMAGE_ID: NAPP 11009 086
SOURCE_IMAGE_DATE: 1998 07 22
SOURCE_IMAGE_ID: NAPP 9167 171
SOURCE_IMAGE_DATE: 1996 08 26
SOURCE_IMAGE_ID: NAPP 9167 173
SOURCE_IMAGE_DATE: 1996 08 26
SOURCE_IMAGE_ID: NAPP 9167 074
SOURCE_IMAGE_DATE: 1996 08 26
SOURCE_DEM_DATE: 1971 00 00
AGENCY: WESTERN MAPPING CENTER (WMC)
PRODUCER: UNDEFINED
PRODUCTION_SYSTEM: GIS/MAGIC
COMPRESSION: UNDEFINED
STANDARD_VERSION: 1996 12
METADATA_DATE: 2000 06 12
DATA_FILE_SIZE: 40812915
BYTE_COUNT: 5385
