FILENAME: O4711021.SES.1079993.tif
QUADRANGLE_NAME: MONTAGUE
QUADRANT: SE
WEST_LONGITUDE: -110 26 15.00000
EAST_LONGITUDE: -110 22 30.00000
NORTH_LATITUDE: 47 41 15.00000
SOUTH_LATITUDE: 47 37 30.00000
PRODUCTION_DATE: 2000 5 10
RASTER_ORDER: LEFT_RIGHT/TOP_BOTTOM
BAND_ORGANIZATION: SINGLE FILE
BAND_CONTENT: BLACK&WHITE
BAND_CONTENT: UNDEFINED
BAND_CONTENT: UNDEFINED
BITS_PER_PIXEL: 8
SAMPLES_AND_LINES: 5406 7589
HORIZONTAL_DATUM: NAD83
HORIZONTAL_COORDINATE_SYSTEM: UTM
COORDINATE_ZONE: 12
HORIZONTAL_UNITS: METERS
HORIZONTAL_RESOLUTION: 1.00000
SECONDARY_HORIZONTAL_DATUM: NAD27
XY_ORIGIN: 541854.00000 5282058.00000
SECONDARY_XY_ORIGIN: 541912.48600 5281842.69700
NATION: US
NATION: "SCIENCE
STATE: MT
NW_QUAD_CORNER_XY: 542212.68400 5281721.32800
NE_QUAD_CORNER_XY: 546902.96500 5281757.27200
SE_QUAD_CORNERY_XY: 546958.97100 5274811.11300
SW_QUAD_CORNER_XY: 542263.08800 5274775.16200
SECONDARY_NW_QUAD_XY: 542214.00300 5281502.53700
SECONDARY_NE_QUAD_XY: 546904.43200 5281538.48200
SECONDARY_SE_QUAD_XY: 546960.43700 5274592.34200
SECONDARY_SW_QUAD_XY: 542264.40800 5274556.39000
RMSE_XY: 1.10000
IMAGE_SOURCE: BLACK AND WHITE FILM
SOURCE_IMAGE_ID: NAPP 9164 198
SOURCE_IMAGE_DATE: 1996 07 27
SOURCE_IMAGE_ID: NAPP 9164 196
SOURCE_IMAGE_DATE: 1996 07 27
SOURCE_IMAGE_ID: NAPP 9164 199
SOURCE_IMAGE_DATE: 1996 07 27
SOURCE_DEM_DATE: 1971 00 00
AGENCY: WESTERN MAPPING CENTER (WMC)
PRODUCER: UNDEFINED
PRODUCTION_SYSTEM: GIS/MAGIC
COMPRESSION: UNDEFINED
STANDARD_VERSION: 1996 12
METADATA_DATE: 2000 06 12
DATA_FILE_SIZE: 41031540
BYTE_COUNT: 5406
