FILENAME: O4711024.SWS.1080042.tif
QUADRANGLE_NAME: SQUARE BUTTE NE
QUADRANT: SW
WEST_LONGITUDE: -110 7 30.00000
EAST_LONGITUDE: -110 3 45.00000
NORTH_LATITUDE: 47 41 15.00000
SOUTH_LATITUDE: 47 37 30.00000
PRODUCTION_DATE: 2000 5 12
RASTER_ORDER: LEFT_RIGHT/TOP_BOTTOM
BAND_ORGANIZATION: SINGLE FILE
BAND_CONTENT: BLACK&WHITE
BAND_CONTENT: UNDEFINED
BAND_CONTENT: UNDEFINED
BITS_PER_PIXEL: 8
SAMPLES_AND_LINES: 5434 7607
HORIZONTAL_DATUM: NAD83
HORIZONTAL_COORDINATE_SYSTEM: UTM
COORDINATE_ZONE: 12
HORIZONTAL_UNITS: METERS
HORIZONTAL_RESOLUTION: 1.00000
SECONDARY_HORIZONTAL_DATUM: NAD27
XY_ORIGIN: 565306.00000 5282294.00000
SECONDARY_XY_ORIGIN: 565364.65800 5282078.45900
NATION: US
NATION: "SCIENCE
STATE: MT
NW_QUAD_CORNER_XY: 565664.03600 5281938.88700
NE_QUAD_CORNER_XY: 570354.28700 5281993.75100
SE_QUAD_CORNERY_XY: 570438.29900 5275047.63800
SW_QUAD_CORNER_XY: 565742.44700 5274992.76300
SECONDARY_NW_QUAD_XY: 565666.08900 5281720.10300
SECONDARY_NE_QUAD_XY: 570356.48700 5281774.96800
SECONDARY_SE_QUAD_XY: 570440.49900 5274828.87500
SECONDARY_SW_QUAD_XY: 565744.50000 5274773.99900
RMSE_XY: 0.90000
IMAGE_SOURCE: BLACK AND WHITE FILM
SOURCE_IMAGE_ID: NAPP 9178 281
SOURCE_IMAGE_DATE: 1997 09 04
SOURCE_IMAGE_ID: NAPP 9178 282
SOURCE_IMAGE_DATE: 1997 09 04
SOURCE_DEM_DATE: 1971 00 00
AGENCY: WESTERN MAPPING CENTER (WMC)
PRODUCER: UNDEFINED
PRODUCTION_SYSTEM: GIS/MAGIC
COMPRESSION: UNDEFINED
STANDARD_VERSION: 1996 12
METADATA_DATE: 2000 06 12
DATA_FILE_SIZE: 41341872
BYTE_COUNT: 5434
