FILENAME: O4711026.NES.1079971.tif
QUADRANGLE_NAME: HIGHWOOD
QUADRANT: NE
WEST_LONGITUDE: -110 48 45.00000
EAST_LONGITUDE: -110 45 0.00000
NORTH_LATITUDE: 47 37 30.00000
SOUTH_LATITUDE: 47 33 45.00000
PRODUCTION_DATE: 2000 5 10
RASTER_ORDER: LEFT_RIGHT/TOP_BOTTOM
BAND_ORGANIZATION: SINGLE FILE
BAND_CONTENT: BLACK&WHITE
BAND_CONTENT: UNDEFINED
BAND_CONTENT: UNDEFINED
BITS_PER_PIXEL: 8
SAMPLES_AND_LINES: 5379 7566
HORIZONTAL_DATUM: NAD83
HORIZONTAL_COORDINATE_SYSTEM: UTM
COORDINATE_ZONE: 12
HORIZONTAL_UNITS: METERS
HORIZONTAL_RESOLUTION: 1.00000
SECONDARY_HORIZONTAL_DATUM: NAD27
XY_ORIGIN: 513728.00000 5274953.00000
SECONDARY_XY_ORIGIN: 513787.00400 5274737.92300
NATION: US
NATION: "SCIENCE
STATE: MT
NW_QUAD_CORNER_XY: 514087.71400 5274638.92800
NE_QUAD_CORNER_XY: 518783.61700 5274652.17300
SE_QUAD_CORNERY_XY: 518805.99600 5267706.05800
SW_QUAD_CORNER_XY: 514104.49900 5267692.81000
SECONDARY_NW_QUAD_XY: 514088.15400 5274420.15300
SECONDARY_NE_QUAD_XY: 518784.20300 5274433.39800
SECONDARY_SE_QUAD_XY: 518806.58200 5267487.30300
SECONDARY_SW_QUAD_XY: 514104.93800 5267474.05500
RMSE_XY: 1.50000
IMAGE_SOURCE: BLACK AND WHITE FILM
SOURCE_IMAGE_ID: NAPP 9167 275
SOURCE_IMAGE_DATE: 1996 08 26
SOURCE_DEM_DATE: 1975 00 00
AGENCY: WESTERN MAPPING CENTER (WMC)
PRODUCER: UNDEFINED
PRODUCTION_SYSTEM: GIS/MAGIC
COMPRESSION: UNDEFINED
STANDARD_VERSION: 1996 12
METADATA_DATE: 2000 06 12
DATA_FILE_SIZE: 40702893
BYTE_COUNT: 5379
