FILENAME: O4711027.NES.1079975.tif
QUADRANGLE_NAME: BIG SAG
QUADRANT: NE
WEST_LONGITUDE: -110 41 15.00000
EAST_LONGITUDE: -110 37 30.00000
NORTH_LATITUDE: 47 37 30.00000
SOUTH_LATITUDE: 47 33 45.00000
PRODUCTION_DATE: 2000 5 10
RASTER_ORDER: LEFT_RIGHT/TOP_BOTTOM
BAND_ORGANIZATION: SINGLE FILE
BAND_CONTENT: BLACK&WHITE
BAND_CONTENT: UNDEFINED
BAND_CONTENT: UNDEFINED
BITS_PER_PIXEL: 8
SAMPLES_AND_LINES: 5390 7574
HORIZONTAL_DATUM: NAD83
HORIZONTAL_COORDINATE_SYSTEM: UTM
COORDINATE_ZONE: 12
HORIZONTAL_UNITS: METERS
HORIZONTAL_RESOLUTION: 1.00000
SECONDARY_HORIZONTAL_DATUM: NAD27
XY_ORIGIN: 523120.00000 5274991.00000
SECONDARY_XY_ORIGIN: 523178.71200 5274775.92300
NATION: US
NATION: "SCIENCE
STATE: MT
NW_QUAD_CORNER_XY: 523479.51700 5274669.20200
NE_QUAD_CORNER_XY: 528175.41500 5274690.01500
SE_QUAD_CORNERY_XY: 528208.98400 5267743.90700
SW_QUAD_CORNER_XY: 523507.49100 5267723.09000
SECONDARY_NW_QUAD_XY: 523480.25000 5274450.42700
SECONDARY_NE_QUAD_XY: 528176.29500 5274471.24100
SECONDARY_SE_QUAD_XY: 528209.86400 5267525.15300
SECONDARY_SW_QUAD_XY: 523508.22400 5267504.33500
RMSE_XY: 1.00000
IMAGE_SOURCE: BLACK AND WHITE FILM
SOURCE_IMAGE_ID: NAPP 9167 168
SOURCE_IMAGE_DATE: 1996 08 26
SOURCE_IMAGE_ID: NAPP 11009 081
SOURCE_IMAGE_DATE: 1998 07 22
SOURCE_DEM_DATE: 2000 01 01
AGENCY: WESTERN MAPPING CENTER (WMC)
PRODUCER: UNDEFINED
PRODUCTION_SYSTEM: GIS/MAGIC
COMPRESSION: UNDEFINED
STANDARD_VERSION: 1996 12
METADATA_DATE: 2000 06 12
DATA_FILE_SIZE: 40829250
BYTE_COUNT: 5390
