FILENAME: O4711031.SES.1080017.tif
QUADRANGLE_NAME: SQUARE BUTTE
QUADRANT: SE
WEST_LONGITUDE: -110 11 15.00000
EAST_LONGITUDE: -110 7 30.00000
NORTH_LATITUDE: 47 33 45.00000
SOUTH_LATITUDE: 47 30 0.00000
PRODUCTION_DATE: 2000 5 12
RASTER_ORDER: LEFT_RIGHT/TOP_BOTTOM
BAND_ORGANIZATION: SINGLE FILE
BAND_CONTENT: BLACK&WHITE
BAND_CONTENT: UNDEFINED
BAND_CONTENT: UNDEFINED
BITS_PER_PIXEL: 8
SAMPLES_AND_LINES: 5440 7603
HORIZONTAL_DATUM: NAD83
HORIZONTAL_COORDINATE_SYSTEM: UTM
COORDINATE_ZONE: 12
HORIZONTAL_UNITS: METERS
HORIZONTAL_RESOLUTION: 1.00000
SECONDARY_HORIZONTAL_DATUM: NAD27
XY_ORIGIN: 560761.00000 5268347.00000
SECONDARY_XY_ORIGIN: 560819.82000 5268131.68500
NATION: US
NATION: "SCIENCE
STATE: MT
NW_QUAD_CORNER_XY: 561119.32300 5267995.61400
NE_QUAD_CORNER_XY: 565820.77900 5268046.71400
SE_QUAD_CORNERY_XY: 565899.03100 5261100.73900
SW_QUAD_CORNER_XY: 561191.98600 5261049.63000
SECONDARY_NW_QUAD_XY: 561121.22900 5267776.86800
SECONDARY_NE_QUAD_XY: 565822.83100 5267827.97000
SECONDARY_SE_QUAD_XY: 565901.08400 5260882.01600
SECONDARY_SW_QUAD_XY: 561193.89200 5260830.90500
RMSE_XY: 1.70000
IMAGE_SOURCE: BLACK AND WHITE FILM
SOURCE_IMAGE_ID: NAPP 9179 022
SOURCE_IMAGE_DATE: 1997 09 04
SOURCE_IMAGE_ID: NAPP 9179 021
SOURCE_IMAGE_DATE: 1997 09 04
SOURCE_IMAGE_ID: NAPP 9179 023
SOURCE_IMAGE_DATE: 1997 09 04
SOURCE_IMAGE_ID: NAPP 9178 286
SOURCE_IMAGE_DATE: 1997 09 04
SOURCE_DEM_DATE: 1971 00 00
AGENCY: WESTERN MAPPING CENTER (WMC)
PRODUCER: UNDEFINED
PRODUCTION_SYSTEM: GIS/MAGIC
COMPRESSION: UNDEFINED
STANDARD_VERSION: 1996 12
METADATA_DATE: 2000 06 12
DATA_FILE_SIZE: 41365760
BYTE_COUNT: 5440
