FILENAME: O4711031.NWS.1080016.tif
QUADRANGLE_NAME: SQUARE BUTTE
QUADRANT: NW
WEST_LONGITUDE: -110 15 0.00000
EAST_LONGITUDE: -110 11 15.00000
NORTH_LATITUDE: 47 37 30.00000
SOUTH_LATITUDE: 47 33 45.00000
PRODUCTION_DATE: 2000 5 12
RASTER_ORDER: LEFT_RIGHT/TOP_BOTTOM
BAND_ORGANIZATION: SINGLE FILE
BAND_CONTENT: BLACK&WHITE
BAND_CONTENT: UNDEFINED
BAND_CONTENT: UNDEFINED
BITS_PER_PIXEL: 8
SAMPLES_AND_LINES: 5429 7600
HORIZONTAL_DATUM: NAD83
HORIZONTAL_COORDINATE_SYSTEM: UTM
COORDINATE_ZONE: 12
HORIZONTAL_UNITS: METERS
HORIZONTAL_RESOLUTION: 1.00000
SECONDARY_HORIZONTAL_DATUM: NAD27
XY_ORIGIN: 555992.00000 5275242.00000
SECONDARY_XY_ORIGIN: 556050.68900 5275026.67400
NATION: US
NATION: "SCIENCE
STATE: MT
NW_QUAD_CORNER_XY: 556350.72100 5274894.36800
NE_QUAD_CORNER_XY: 561046.58700 5274941.67300
SE_QUAD_CORNERY_XY: 561119.32300 5267995.61400
SW_QUAD_CORNER_XY: 556417.86100 5267948.30000
SECONDARY_NW_QUAD_XY: 556352.48100 5274675.60100
SECONDARY_NE_QUAD_XY: 561048.49300 5274722.90700
SECONDARY_SE_QUAD_XY: 561121.22900 5267776.86800
SECONDARY_SW_QUAD_XY: 556419.62100 5267729.55300
RMSE_XY: 0.90000
IMAGE_SOURCE: BLACK AND WHITE FILM
SOURCE_IMAGE_ID: NAPP 9177 056
SOURCE_IMAGE_DATE: 1997 09 04
SOURCE_IMAGE_ID: NAPP 9177 057
SOURCE_IMAGE_DATE: 1997 09 04
SOURCE_DEM_DATE: 1971 00 00
AGENCY: WESTERN MAPPING CENTER (WMC)
PRODUCER: UNDEFINED
PRODUCTION_SYSTEM: GIS/MAGIC
COMPRESSION: UNDEFINED
STANDARD_VERSION: 1996 12
METADATA_DATE: 2000 06 12
DATA_FILE_SIZE: 41265829
BYTE_COUNT: 5429
