FILENAME: O4711035.SWS.1078942.tif
QUADRANGLE_NAME: HIGHWOOD BALDY
QUADRANT: SW
WEST_LONGITUDE: -110 45 0.00000
EAST_LONGITUDE: -110 41 15.00000
NORTH_LATITUDE: 47 26 15.00000
SOUTH_LATITUDE: 47 22 30.00000
PRODUCTION_DATE: 2000 6 4
RASTER_ORDER: LEFT_RIGHT/TOP_BOTTOM
BAND_ORGANIZATION: SINGLE FILE
BAND_CONTENT: BLACK&WHITE
BAND_CONTENT: UNDEFINED
BAND_CONTENT: UNDEFINED
BITS_PER_PIXEL: 8
SAMPLES_AND_LINES: 5402 7570
HORIZONTAL_DATUM: NAD83
HORIZONTAL_COORDINATE_SYSTEM: UTM
COORDINATE_ZONE: 12
HORIZONTAL_UNITS: METERS
HORIZONTAL_RESOLUTION: 1.00000
SECONDARY_HORIZONTAL_DATUM: NAD27
XY_ORIGIN: 518491.00000 5254132.00000
SECONDARY_XY_ORIGIN: 518550.16300 5253917.16800
NATION: US
NATION: "SCIENCE
STATE: MT
NW_QUAD_CORNER_XY: 518850.68600 5253814.05400
NE_QUAD_CORNER_XY: 523563.35400 5253831.09300
SE_QUAD_CORNERY_XY: 523591.24400 5246885.20800
SW_QUAD_CORNER_XY: 518872.99800 5246868.16700
SECONDARY_NW_QUAD_XY: 518851.27300 5253595.34300
SECONDARY_NE_QUAD_XY: 523564.08700 5253612.38200
SECONDARY_SE_QUAD_XY: 523591.97700 5246666.52000
SECONDARY_SW_QUAD_XY: 518873.58400 5246649.47800
RMSE_XY: 2.00000
IMAGE_SOURCE: BLACK AND WHITE FILM
SOURCE_IMAGE_ID: NAPP 9183 094
SOURCE_IMAGE_DATE: 1997 09 09
SOURCE_IMAGE_ID: NAPP 9183 095
SOURCE_IMAGE_DATE: 1997 09 09
SOURCE_IMAGE_ID: NAPP 9183 011
SOURCE_IMAGE_DATE: 1997 09 09
SOURCE_IMAGE_ID: NAPP 9183 010
SOURCE_IMAGE_DATE: 1997 09 09
SOURCE_DEM_DATE: 1971 00 00
AGENCY: WESTERN MAPPING CENTER (WMC)
PRODUCER: UNDEFINED
PRODUCTION_SYSTEM: GIS/MAGIC
COMPRESSION: UNDEFINED
STANDARD_VERSION: 1996 12
METADATA_DATE: 2000 06 07
DATA_FILE_SIZE: 40898542
BYTE_COUNT: 5402
