FILENAME: O4711036.SES.1078945.tif
QUADRANGLE_NAME: ARROW PEAK
QUADRANT: SE
WEST_LONGITUDE: -110 33 45.00000
EAST_LONGITUDE: -110 30 0.00000
NORTH_LATITUDE: 47 26 15.00000
SOUTH_LATITUDE: 47 22 30.00000
PRODUCTION_DATE: 2000 6 4
RASTER_ORDER: LEFT_RIGHT/TOP_BOTTOM
BAND_ORGANIZATION: SINGLE FILE
BAND_CONTENT: BLACK&WHITE
BAND_CONTENT: UNDEFINED
BAND_CONTENT: UNDEFINED
BITS_PER_PIXEL: 8
SAMPLES_AND_LINES: 5418 7581
HORIZONTAL_DATUM: NAD83
HORIZONTAL_COORDINATE_SYSTEM: UTM
COORDINATE_ZONE: 12
HORIZONTAL_UNITS: METERS
HORIZONTAL_RESOLUTION: 1.00000
SECONDARY_HORIZONTAL_DATUM: NAD27
XY_ORIGIN: 532629.00000 5254205.00000
SECONDARY_XY_ORIGIN: 532688.01400 5253990.14300
NATION: US
NATION: "SCIENCE
STATE: MT
NW_QUAD_CORNER_XY: 532988.68300 5253876.53000
NE_QUAD_CORNER_XY: 537701.34300 5253904.92800
SE_QUAD_CORNERY_XY: 537745.96600 5246959.05700
SW_QUAD_CORNER_XY: 533027.72800 5246930.65300
SECONDARY_NW_QUAD_XY: 532989.70900 5253657.82000
SECONDARY_NE_QUAD_XY: 537702.51500 5253686.21900
SECONDARY_SE_QUAD_XY: 537747.13900 5246740.37100
SECONDARY_SW_QUAD_XY: 533028.75400 5246711.96700
RMSE_XY: 1.60000
IMAGE_SOURCE: BLACK AND WHITE FILM
SOURCE_IMAGE_ID: NAPP 11005 071
SOURCE_IMAGE_DATE: 1998 07 20
SOURCE_IMAGE_ID: NAPP 9182 128
SOURCE_IMAGE_DATE: 1997 09 09
SOURCE_IMAGE_ID: NAPP 9182 129
SOURCE_IMAGE_DATE: 1997 09 09
SOURCE_IMAGE_ID: NAPP 9167 067
SOURCE_IMAGE_DATE: 1996 08 26
SOURCE_IMAGE_ID: NAPP 9167 065
SOURCE_IMAGE_DATE: 1996 08 26
SOURCE_DEM_DATE: 1978 00 00
AGENCY: WESTERN MAPPING CENTER (WMC)
PRODUCER: UNDEFINED
PRODUCTION_SYSTEM: GIS/MAGIC
COMPRESSION: UNDEFINED
STANDARD_VERSION: 1996 12
METADATA_DATE: 2000 06 07
DATA_FILE_SIZE: 41079276
BYTE_COUNT: 5418
